Workbook

Sheet FEUILLE d'engagement
K2: CSSU ENGAGEMENTS CROSS 2026 | R2: =VLOOKUP(M5,'Ets et CODE'!E2:I260,5,FALSE()) -> Fédération
I3: Consigne 1 | L3: DATE LIMITE D'INSCRIPTION : LUNDI 10 NOVEMBRE 2026 (délai de rigueur)
I4: Consigne 2 | L4: Etablissement : | M4: CHOISISSEZ VOTRE ETABLISSEMENT | S4: CLIQUER DANS LA CELLULE BLEUE ET SUR LA FLÈCHE
I5: A LIRE | M5: =VLOOKUP(M4,'Ets et CODE'!D2:F260,2,FALSE()) -> - Merci -
I6: IMPORTANT | L6: Responsable (s) :
R7: =COUNTA(L9:L16,L25:L32,L41:L48,L57:L64,L73:L80,L89:L96,L105:L112,L121:L128)&" Filles - "&COUNTA(L17:L24,L33:L40,L49:L56,L65:L72,L81:L88,L97:L104,L113:L120,L129:L136)&" Gars - Soit un Total de : "&COUNTA(L9:L136) -> 0 Filles - 0 Gars - Soit un Total de : 0
A8: Cat. | B8: Cde Ets | C8: Ordre | K8: N° ID | O8: Sx | P8: Cat. | Q8: Ets | R8: ASS | S8: Licence pour USSP | AM8: =COUNTA(L9:L16,L25:L32,L41:L48,L57:L64,L73:L80,L89:L96,L105:L112,L121:L128)&" F - "&COUNTA(L17:L24,L33:L40,L49:L56,L65:L72,L81:L88,L97:L104,L113:L120,L129:L136)&" G" -> 0 F - 0 G
A9: =IF(N9="","",IF(G9=1,E9,"Erreur")) | B9: =IF(N9="","",IF(G9=1,$M$5,"date")) | C9: =IF(N9="","",IF(G9=1,D9,"de")) | D9: 1 | E9: 03 | F9: F | G9: =IF(OR(VLOOKUP(E9,cod_cat,3,FALSE())=YEAR(N9),VLOOKUP(E9,cod_cat,4,FALSE())=YEAR(N9)),1,0) -> 0 | I9: =IFERROR(VLOOKUP(E9,cod_cat,3,FALSE()),"-") -> 2017 | J9: POUSSINES - PF1 | K9: =IF(N9="","",IF(G9=1,A9&" "&B9&" "&C9,"Naissance")) | O9: =IF(L9="","",F9) | P9: =IF(B9<>$M$5,"",VLOOKUP(A9,cod_cat,2,FALSE())) | Q9: =IF(B9<>$M$5,"",$M$4) | R9: =IF(B9<>$M$5,"",$R$2) | U9: =M5 -> - Merci - | V9: =M4 -> CHOISISSEZ VOTRE ETABLISSEMENT | W9: =COUNTA(_03pf1) -> 0 | X9: =COUNTA(_04pg1) -> 0 | Y9: =COUNTA(_05pf2) -> 0 | Z9: =COUNTA(_06pg2) -> 0 | AA9: =COUNTA(_07bf1) -> 0 | AB9: =COUNTA(_08bg1) -> 0 | AC9: =COUNTA(_09bf2) -> 0 | AD9: =COUNTA(_10bg2) -> 0 | AE9: =COUNTA(_11mf) -> 0 | AF9: =COUNTA(_12mg) -> 0 | AG9: =COUNTA(_13cf) -> 0 | AH9: =COUNTA(_14cg) -> 0 | AI9: =COUNTA(_15jf) -> 0 | AJ9: =COUNTA(_16jg) -> 0 | AK9: =COUNTA(_17sf) -> 0 | AL9: =COUNTA(_18sg) -> 0 | AM9: =SUM(W9:AL9) -> 0 | AN9: =VLOOKUP(M4,BASE,4,FALSE()) -> #N/A | AO9: =VLOOKUP(M4,BASE,5,FALSE()) -> #N/A | AP9: =R2 -> Fédération
A10: =IF(N10="","",IF(G10=1,E10,"Erreur")) | B10: =IF(N10="","",IF(G10=1,$M$5,"date")) | C10: =IF(N10="","",IF(G10=1,D10,"de")) | D10: 2 | E10: 03 | F10: F | G10: =IF(OR(VLOOKUP(E10,cod_cat,3,FALSE())=YEAR(N10),VLOOKUP(E10,cod_cat,4,FALSE())=YEAR(N10)),1,0) -> 0 | K10: =IF(N10="","",IF(G10=1,A10&" "&B10&" "&C10,"Naissance")) | O10: =IF(L10="","",F10) | P10: =IF(B10<>$M$5,"",VLOOKUP(A10,cod_cat,2,FALSE())) | Q10: =IF(B10<>$M$5,"",$M$4) | R10: =IF(B10<>$M$5,"",$R$2) | U10: Recap ASS | W10: PF1 | X10: PG1 | Y10: PF2 | Z10: PG2 | AA10: BF1 | AB10: BG1 | AC10: BF2 | AD10: BG2 | AE10: MF | AF10: MG | AG10: CF | AH10: CG | AI10: JF | AJ10: JG | AK10: SF | AL10: SG | AM10: Total | AN10: Ile | AO10: Archipel | AP10: ASS
A11: =IF(N11="","",IF(G11=1,E11,"Erreur")) | B11: =IF(N11="","",IF(G11=1,$M$5,"date")) | C11: =IF(N11="","",IF(G11=1,D11,"de")) | D11: 3 | E11: 03 | F11: F | G11: =IF(OR(VLOOKUP(E11,cod_cat,3,FALSE())=YEAR(N11),VLOOKUP(E11,cod_cat,4,FALSE())=YEAR(N11)),1,0) -> 0 | K11: =IF(N11="","",IF(G11=1,A11&" "&B11&" "&C11,"Naissance")) | O11: =IF(L11="","",F11) | P11: =IF(B11<>$M$5,"",VLOOKUP(A11,cod_cat,2,FALSE())) | Q11: =IF(B11<>$M$5,"",$M$4) | R11: =IF(B11<>$M$5,"",$R$2) | W11: 03 | X11: 04 | Y11: 05 | Z11: 06 | AA11: 07 | AB11: 08 | AC11: 09 | AD11: 10 | AE11: 11 | AF11: 12 | AG11: 13 | AH11: 14 | AI11: 15 | AJ11: 16 | AK11: 17 | AL11: 18
A12: =IF(N12="","",IF(G12=1,E12,"Erreur")) | B12: =IF(N12="","",IF(G12=1,$M$5,"date")) | C12: =IF(N12="","",IF(G12=1,D12,"de")) | D12: 4 | E12: 03 | F12: F | G12: =IF(OR(VLOOKUP(E12,cod_cat,3,FALSE())=YEAR(N12),VLOOKUP(E12,cod_cat,4,FALSE())=YEAR(N12)),1,0) -> 0 | K12: =IF(N12="","",IF(G12=1,A12&" "&B12&" "&C12,"Naissance")) | O12: =IF(L12="","",F12) | P12: =IF(B12<>$M$5,"",VLOOKUP(A12,cod_cat,2,FALSE())) | Q12: =IF(B12<>$M$5,"",$M$4) | R12: =IF(B12<>$M$5,"",$R$2) | W12: ='Ets et CODE'!M3 -> 2017 | Y12: ='Ets et CODE'!M4 -> 2016 | AA12: ='Ets et CODE'!M5 -> 2015 | AC12: ='Ets et CODE'!M6 -> 2014 | AE12: ='Ets et CODE'!M7 -> 2012 - 2013 | AG12: ='Ets et CODE'!M8 -> 2010 - 2011 | AI12: ='Ets et CODE'!M9 -> 2008 - 2009 | AK12: =I121 -> -
A13: =IF(N13="","",IF(G13=1,E13,"Erreur")) | B13: =IF(N13="","",IF(G13=1,$M$5,"date")) | C13: =IF(N13="","",IF(G13=1,D13,"de")) | D13: 5 | E13: 03 | F13: F | G13: =IF(OR(VLOOKUP(E13,cod_cat,3,FALSE())=YEAR(N13),VLOOKUP(E13,cod_cat,4,FALSE())=YEAR(N13)),1,0) -> 0 | K13: =IF(N13="","",IF(G13=1,A13&" "&B13&" "&C13,"Naissance")) | O13: =IF(L13="","",F13) | P13: =IF(B13<>$M$5,"",VLOOKUP(A13,cod_cat,2,FALSE())) | Q13: =IF(B13<>$M$5,"",$M$4) | R13: =IF(B13<>$M$5,"",$R$2)
A14: =IF(N14="","",IF(G14=1,E14,"Erreur")) | B14: =IF(N14="","",IF(G14=1,$M$5,"date")) | C14: =IF(N14="","",IF(G14=1,D14,"de")) | D14: 6 | E14: 03 | F14: F | G14: =IF(OR(VLOOKUP(E14,cod_cat,3,FALSE())=YEAR(N14),VLOOKUP(E14,cod_cat,4,FALSE())=YEAR(N14)),1,0) -> 0 | K14: =IF(N14="","",IF(G14=1,A14&" "&B14&" "&C14,"Naissance")) | O14: =IF(L14="","",F14) | P14: =IF(B14<>$M$5,"",VLOOKUP(A14,cod_cat,2,FALSE())) | Q14: =IF(B14<>$M$5,"",$M$4) | R14: =IF(B14<>$M$5,"",$R$2)
A15: =IF(N15="","",IF(G15=1,E15,"Erreur")) | B15: =IF(N15="","",IF(G15=1,$M$5,"date")) | C15: =IF(N15="","",IF(G15=1,D15,"de")) | D15: 7 | E15: 03 | F15: F | G15: =IF(OR(VLOOKUP(E15,cod_cat,3,FALSE())=YEAR(N15),VLOOKUP(E15,cod_cat,4,FALSE())=YEAR(N15)),1,0) -> 0 | K15: N | O15: =IF(L15="","",F15) | P15: =IF(B15<>$M$5,"",VLOOKUP(A15,cod_cat,2,FALSE())) | Q15: =IF(B15<>$M$5,"",$M$4) | R15: =IF(B15<>$M$5,"",$R$2)
A16: =IF(N16="","",IF(G16=1,E16,"Erreur")) | B16: =IF(N16="","",IF(G16=1,$M$5,"date")) | C16: =IF(N16="","",IF(G16=1,D16,"de")) | D16: 8 | E16: 03 | F16: F | G16: =IF(OR(VLOOKUP(E16,cod_cat,3,FALSE())=YEAR(N16),VLOOKUP(E16,cod_cat,4,FALSE())=YEAR(N16)),1,0) -> 0 | K16: N | O16: =IF(L16="","",F16) | P16: =IF(B16<>$M$5,"",VLOOKUP(A16,cod_cat,2,FALSE())) | Q16: =IF(B16<>$M$5,"",$M$4) | R16: =IF(B16<>$M$5,"",$R$2)
A17: =IF(N17="","",IF(G17=1,E17,"Erreur")) | B17: =IF(N17="","",IF(G17=1,$M$5,"date")) | C17: =IF(N17="","",IF(G17=1,D17,"de")) | D17: 1 | E17: 04 | F17: G | G17: =IF(OR(VLOOKUP(E17,cod_cat,3,FALSE())=YEAR(N17),VLOOKUP(E17,cod_cat,4,FALSE())=YEAR(N17)),1,0) -> 0 | J17: POUSSINES - PG1 | K17: =IF(N17="","",IF(G17=1,A17&" "&B17&" "&C17,"Naissance")) | O17: =IF(L17="","",F17) | P17: =IF(B17<>$M$5,"",VLOOKUP(A17,cod_cat,2,FALSE())) | Q17: =IF(B17<>$M$5,"",$M$4) | R17: =IF(B17<>$M$5,"",$R$2) | U17: 1-Merci de lire les CONSIGNES et REGLEMENT( CHANGEMENTS)
A18: =IF(N18="","",IF(G18=1,E18,"Erreur")) | B18: =IF(N18="","",IF(G18=1,$M$5,"date")) | C18: =IF(N18="","",IF(G18=1,D18,"de")) | D18: 2 | E18: 04 | F18: G | G18: =IF(OR(VLOOKUP(E18,cod_cat,3,FALSE())=YEAR(N18),VLOOKUP(E18,cod_cat,4,FALSE())=YEAR(N18)),1,0) -> 0 | K18: =IF(N18="","",IF(G18=1,A18&" "&B18&" "&C18,"Naissance")) | O18: =IF(L18="","",F18) | P18: =IF(B18<>$M$5,"",VLOOKUP(A18,cod_cat,2,FALSE())) | Q18: =IF(B18<>$M$5,"",$M$4) | R18: =IF(B18<>$M$5,"",$R$2) | U18: 2- PF à BG uniquement 6 engagés. LE RESTE TOUJOURS 8
A19: =IF(N19="","",IF(G19=1,E19,"Erreur")) | B19: =IF(N19="","",IF(G19=1,$M$5,"date")) | C19: =IF(N19="","",IF(G19=1,D19,"de")) | D19: 3 | E19: 04 | F19: G | G19: =IF(OR(VLOOKUP(E19,cod_cat,3,FALSE())=YEAR(N19),VLOOKUP(E19,cod_cat,4,FALSE())=YEAR(N19)),1,0) -> 0 | K19: =IF(N19="","",IF(G19=1,A19&" "&B19&" "&C19,"Naissance")) | O19: =IF(L19="","",F19) | P19: =IF(B19<>$M$5,"",VLOOKUP(A19,cod_cat,2,FALSE())) | Q19: =IF(B19<>$M$5,"",$M$4) | R19: =IF(B19<>$M$5,"",$R$2) | U19: 3-RÉSULTATS : 3 PREMIERS OFFICIELS
A20: =IF(N20="","",IF(G20=1,E20,"Erreur")) | B20: =IF(N20="","",IF(G20=1,$M$5,"date")) | C20: =IF(N20="","",IF(G20=1,D20,"de")) | D20: 4 | E20: 04 | F20: G | G20: =IF(OR(VLOOKUP(E20,cod_cat,3,FALSE())=YEAR(N20),VLOOKUP(E20,cod_cat,4,FALSE())=YEAR(N20)),1,0) -> 0 | K20: =IF(N20="","",IF(G20=1,A20&" "&B20&" "&C20,"Naissance")) | O20: =IF(L20="","",F20) | P20: =IF(B20<>$M$5,"",VLOOKUP(A20,cod_cat,2,FALSE())) | Q20: =IF(B20<>$M$5,"",$M$4) | R20: =IF(B20<>$M$5,"",$R$2) | U20: 3-RÉSULTATS DES AUTRES INDIVIDUELS (LES) : OFFICIEUX LE JOUR DU CROSS. Mise à jour dans la semaine qui suit.
A21: =IF(N21="","",IF(G21=1,E21,"Erreur")) | B21: =IF(N21="","",IF(G21=1,$M$5,"date")) | C21: =IF(N21="","",IF(G21=1,D21,"de")) | D21: 5 | E21: 04 | F21: G | G21: =IF(OR(VLOOKUP(E21,cod_cat,3,FALSE())=YEAR(N21),VLOOKUP(E21,cod_cat,4,FALSE())=YEAR(N21)),1,0) -> 0 | K21: =IF(N21="","",IF(G21=1,A21&" "&B21&" "&C21,"Naissance")) | O21: =IF(L21="","",F21) | P21: =IF(B21<>$M$5,"",VLOOKUP(A21,cod_cat,2,FALSE())) | Q21: =IF(B21<>$M$5,"",$M$4) | R21: =IF(B21<>$M$5,"",$R$2)
A22: =IF(N22="","",IF(G22=1,E22,"Erreur")) | B22: =IF(N22="","",IF(G22=1,$M$5,"date")) | C22: =IF(N22="","",IF(G22=1,D22,"de")) | D22: 6 | E22: 04 | F22: G | G22: =IF(OR(VLOOKUP(E22,cod_cat,3,FALSE())=YEAR(N22),VLOOKUP(E22,cod_cat,4,FALSE())=YEAR(N22)),1,0) -> 0 | K22: =IF(N22="","",IF(G22=1,A22&" "&B22&" "&C22,"Naissance")) | O22: =IF(L22="","",F22) | P22: =IF(B22<>$M$5,"",VLOOKUP(A22,cod_cat,2,FALSE())) | Q22: =IF(B22<>$M$5,"",$M$4) | R22: =IF(B22<>$M$5,"",$R$2)
A23: =IF(N23="","",IF(G23=1,E23,"Erreur")) | B23: =IF(N23="","",IF(G23=1,$M$5,"date")) | C23: =IF(N23="","",IF(G23=1,D23,"de")) | D23: 7 | E23: 04 | F23: G | G23: =IF(OR(VLOOKUP(E23,cod_cat,3,FALSE())=YEAR(N23),VLOOKUP(E23,cod_cat,4,FALSE())=YEAR(N23)),1,0) -> 0 | K23: N | O23: =IF(L23="","",F23) | P23: =IF(B23<>$M$5,"",VLOOKUP(A23,cod_cat,2,FALSE())) | Q23: =IF(B23<>$M$5,"",$M$4) | R23: =IF(B23<>$M$5,"",$R$2)
A24: =IF(N24="","",IF(G24=1,E24,"Erreur")) | B24: =IF(N24="","",IF(G24=1,$M$5,"date")) | C24: =IF(N24="","",IF(G24=1,D24,"de")) | D24: 8 | E24: 04 | F24: G | G24: =IF(OR(VLOOKUP(E24,cod_cat,3,FALSE())=YEAR(N24),VLOOKUP(E24,cod_cat,4,FALSE())=YEAR(N24)),1,0) -> 0 | K24: N | O24: =IF(L24="","",F24) | P24: =IF(B24<>$M$5,"",VLOOKUP(A24,cod_cat,2,FALSE())) | Q24: =IF(B24<>$M$5,"",$M$4) | R24: =IF(B24<>$M$5,"",$R$2)
A25: =IF(N25="","",IF(G25=1,E25,"Erreur")) | B25: =IF(N25="","",IF(G25=1,$M$5,"date")) | C25: =IF(N25="","",IF(G25=1,D25,"de")) | D25: 1 | E25: 05 | F25: F | G25: =IF(OR(VLOOKUP(E25,cod_cat,3,FALSE())=YEAR(N25),VLOOKUP(E25,cod_cat,4,FALSE())=YEAR(N25)),1,0) -> 0 | I25: =IFERROR(VLOOKUP(E25,cod_cat,3,FALSE()),"-") -> 2016 | J25: POUSSINES - PF2 | K25: =IF(N25="","",IF(G25=1,A25&" "&B25&" "&C25,"Naissance")) | O25: =IF(L25="","",F25) | P25: =IF(B25<>$M$5,"",VLOOKUP(A25,cod_cat,2,FALSE())) | Q25: =IF(B25<>$M$5,"",$M$4) | R25: =IF(B25<>$M$5,"",$R$2)
A26: =IF(N26="","",IF(G26=1,E26,"Erreur")) | B26: =IF(N26="","",IF(G26=1,$M$5,"date")) | C26: =IF(N26="","",IF(G26=1,D26,"de")) | D26: 2 | E26: 05 | F26: F | G26: =IF(OR(VLOOKUP(E26,cod_cat,3,FALSE())=YEAR(N26),VLOOKUP(E26,cod_cat,4,FALSE())=YEAR(N26)),1,0) -> 0 | K26: =IF(N26="","",IF(G26=1,A26&" "&B26&" "&C26,"Naissance")) | O26: =IF(L26="","",F26) | P26: =IF(B26<>$M$5,"",VLOOKUP(A26,cod_cat,2,FALSE())) | Q26: =IF(B26<>$M$5,"",$M$4) | R26: =IF(B26<>$M$5,"",$R$2)
A27: =IF(N27="","",IF(G27=1,E27,"Erreur")) | B27: =IF(N27="","",IF(G27=1,$M$5,"date")) | C27: =IF(N27="","",IF(G27=1,D27,"de")) | D27: 3 | E27: 05 | F27: F | G27: =IF(OR(VLOOKUP(E27,cod_cat,3,FALSE())=YEAR(N27),VLOOKUP(E27,cod_cat,4,FALSE())=YEAR(N27)),1,0) -> 0 | K27: =IF(N27="","",IF(G27=1,A27&" "&B27&" "&C27,"Naissance")) | O27: =IF(L27="","",F27) | P27: =IF(B27<>$M$5,"",VLOOKUP(A27,cod_cat,2,FALSE())) | Q27: =IF(B27<>$M$5,"",$M$4) | R27: =IF(B27<>$M$5,"",$R$2)
A28: =IF(N28="","",IF(G28=1,E28,"Erreur")) | B28: =IF(N28="","",IF(G28=1,$M$5,"date")) | C28: =IF(N28="","",IF(G28=1,D28,"de")) | D28: 4 | E28: 05 | F28: F | G28: =IF(OR(VLOOKUP(E28,cod_cat,3,FALSE())=YEAR(N28),VLOOKUP(E28,cod_cat,4,FALSE())=YEAR(N28)),1,0) -> 0 | K28: =IF(N28="","",IF(G28=1,A28&" "&B28&" "&C28,"Naissance")) | O28: =IF(L28="","",F28) | P28: =IF(B28<>$M$5,"",VLOOKUP(A28,cod_cat,2,FALSE())) | Q28: =IF(B28<>$M$5,"",$M$4) | R28: =IF(B28<>$M$5,"",$R$2)
A29: =IF(N29="","",IF(G29=1,E29,"Erreur")) | B29: =IF(N29="","",IF(G29=1,$M$5,"date")) | C29: =IF(N29="","",IF(G29=1,D29,"de")) | D29: 5 | E29: 05 | F29: F | G29: =IF(OR(VLOOKUP(E29,cod_cat,3,FALSE())=YEAR(N29),VLOOKUP(E29,cod_cat,4,FALSE())=YEAR(N29)),1,0) -> 0 | K29: =IF(N29="","",IF(G29=1,A29&" "&B29&" "&C29,"Naissance")) | O29: =IF(L29="","",F29) | P29: =IF(B29<>$M$5,"",VLOOKUP(A29,cod_cat,2,FALSE())) | Q29: =IF(B29<>$M$5,"",$M$4) | R29: =IF(B29<>$M$5,"",$R$2)
A30: =IF(N30="","",IF(G30=1,E30,"Erreur")) | B30: =IF(N30="","",IF(G30=1,$M$5,"date")) | C30: =IF(N30="","",IF(G30=1,D30,"de")) | D30: 6 | E30: 05 | F30: F | G30: =IF(OR(VLOOKUP(E30,cod_cat,3,FALSE())=YEAR(N30),VLOOKUP(E30,cod_cat,4,FALSE())=YEAR(N30)),1,0) -> 0 | K30: =IF(N30="","",IF(G30=1,A30&" "&B30&" "&C30,"Naissance")) | O30: =IF(L30="","",F30) | P30: =IF(B30<>$M$5,"",VLOOKUP(A30,cod_cat,2,FALSE())) | Q30: =IF(B30<>$M$5,"",$M$4) | R30: =IF(B30<>$M$5,"",$R$2)
A31: =IF(N31="","",IF(G31=1,E31,"Erreur")) | B31: =IF(N31="","",IF(G31=1,$M$5,"date")) | C31: =IF(N31="","",IF(G31=1,D31,"de")) | D31: 7 | E31: 05 | F31: F | G31: =IF(OR(VLOOKUP(E31,cod_cat,3,FALSE())=YEAR(N31),VLOOKUP(E31,cod_cat,4,FALSE())=YEAR(N31)),1,0) -> 0 | K31: N | O31: =IF(L31="","",F31) | P31: =IF(B31<>$M$5,"",VLOOKUP(A31,cod_cat,2,FALSE())) | Q31: =IF(B31<>$M$5,"",$M$4) | R31: =IF(B31<>$M$5,"",$R$2)
A32: =IF(N32="","",IF(G32=1,E32,"Erreur")) | B32: =IF(N32="","",IF(G32=1,$M$5,"date")) | C32: =IF(N32="","",IF(G32=1,D32,"de")) | D32: 8 | E32: 05 | F32: F | G32: =IF(OR(VLOOKUP(E32,cod_cat,3,FALSE())=YEAR(N32),VLOOKUP(E32,cod_cat,4,FALSE())=YEAR(N32)),1,0) -> 0 | K32: N | O32: =IF(L32="","",F32) | P32: =IF(B32<>$M$5,"",VLOOKUP(A32,cod_cat,2,FALSE())) | Q32: =IF(B32<>$M$5,"",$M$4) | R32: =IF(B32<>$M$5,"",$R$2)
A33: =IF(N33="","",IF(G33=1,E33,"Erreur")) | B33: =IF(N33="","",IF(G33=1,$M$5,"date")) | C33: =IF(N33="","",IF(G33=1,D33,"de")) | D33: 1 | E33: 06 | F33: G | G33: =IF(OR(VLOOKUP(E33,cod_cat,3,FALSE())=YEAR(N33),VLOOKUP(E33,cod_cat,4,FALSE())=YEAR(N33)),1,0) -> 0 | J33: POUSSINES - PG2 | K33: =IF(N33="","",IF(G33=1,A33&" "&B33&" "&C33,"Naissance")) | O33: =IF(L33="","",F33) | P33: =IF(B33<>$M$5,"",VLOOKUP(A33,cod_cat,2,FALSE())) | Q33: =IF(B33<>$M$5,"",$M$4) | R33: =IF(B33<>$M$5,"",$R$2)
A34: =IF(N34="","",IF(G34=1,E34,"Erreur")) | B34: =IF(N34="","",IF(G34=1,$M$5,"date")) | C34: =IF(N34="","",IF(G34=1,D34,"de")) | D34: 2 | E34: 06 | F34: G | G34: =IF(OR(VLOOKUP(E34,cod_cat,3,FALSE())=YEAR(N34),VLOOKUP(E34,cod_cat,4,FALSE())=YEAR(N34)),1,0) -> 0 | K34: =IF(N34="","",IF(G34=1,A34&" "&B34&" "&C34,"Naissance")) | O34: =IF(L34="","",F34) | P34: =IF(B34<>$M$5,"",VLOOKUP(A34,cod_cat,2,FALSE())) | Q34: =IF(B34<>$M$5,"",$M$4) | R34: =IF(B34<>$M$5,"",$R$2)
A35: =IF(N35="","",IF(G35=1,E35,"Erreur")) | B35: =IF(N35="","",IF(G35=1,$M$5,"date")) | C35: =IF(N35="","",IF(G35=1,D35,"de")) | D35: 3 | E35: 06 | F35: G | G35: =IF(OR(VLOOKUP(E35,cod_cat,3,FALSE())=YEAR(N35),VLOOKUP(E35,cod_cat,4,FALSE())=YEAR(N35)),1,0) -> 0 | K35: =IF(N35="","",IF(G35=1,A35&" "&B35&" "&C35,"Naissance")) | O35: =IF(L35="","",F35) | P35: =IF(B35<>$M$5,"",VLOOKUP(A35,cod_cat,2,FALSE())) | Q35: =IF(B35<>$M$5,"",$M$4) | R35: =IF(B35<>$M$5,"",$R$2)
A36: =IF(N36="","",IF(G36=1,E36,"Erreur")) | B36: =IF(N36="","",IF(G36=1,$M$5,"date")) | C36: =IF(N36="","",IF(G36=1,D36,"de")) | D36: 4 | E36: 06 | F36: G | G36: =IF(OR(VLOOKUP(E36,cod_cat,3,FALSE())=YEAR(N36),VLOOKUP(E36,cod_cat,4,FALSE())=YEAR(N36)),1,0) -> 0 | K36: =IF(N36="","",IF(G36=1,A36&" "&B36&" "&C36,"Naissance")) | O36: =IF(L36="","",F36) | P36: =IF(B36<>$M$5,"",VLOOKUP(A36,cod_cat,2,FALSE())) | Q36: =IF(B36<>$M$5,"",$M$4) | R36: =IF(B36<>$M$5,"",$R$2)
A37: =IF(N37="","",IF(G37=1,E37,"Erreur")) | B37: =IF(N37="","",IF(G37=1,$M$5,"date")) | C37: =IF(N37="","",IF(G37=1,D37,"de")) | D37: 5 | E37: 06 | F37: G | G37: =IF(OR(VLOOKUP(E37,cod_cat,3,FALSE())=YEAR(N37),VLOOKUP(E37,cod_cat,4,FALSE())=YEAR(N37)),1,0) -> 0 | K37: =IF(N37="","",IF(G37=1,A37&" "&B37&" "&C37,"Naissance")) | O37: =IF(L37="","",F37) | P37: =IF(B37<>$M$5,"",VLOOKUP(A37,cod_cat,2,FALSE())) | Q37: =IF(B37<>$M$5,"",$M$4) | R37: =IF(B37<>$M$5,"",$R$2)
A38: =IF(N38="","",IF(G38=1,E38,"Erreur")) | B38: =IF(N38="","",IF(G38=1,$M$5,"date")) | C38: =IF(N38="","",IF(G38=1,D38,"de")) | D38: 6 | E38: 06 | F38: G | G38: =IF(OR(VLOOKUP(E38,cod_cat,3,FALSE())=YEAR(N38),VLOOKUP(E38,cod_cat,4,FALSE())=YEAR(N38)),1,0) -> 0 | K38: =IF(N38="","",IF(G38=1,A38&" "&B38&" "&C38,"Naissance")) | O38: =IF(L38="","",F38) | P38: =IF(B38<>$M$5,"",VLOOKUP(A38,cod_cat,2,FALSE())) | Q38: =IF(B38<>$M$5,"",$M$4) | R38: =IF(B38<>$M$5,"",$R$2)
A39: =IF(N39="","",IF(G39=1,E39,"Erreur")) | B39: =IF(N39="","",IF(G39=1,$M$5,"date")) | C39: =IF(N39="","",IF(G39=1,D39,"de")) | D39: 7 | E39: 06 | F39: G | G39: =IF(OR(VLOOKUP(E39,cod_cat,3,FALSE())=YEAR(N39),VLOOKUP(E39,cod_cat,4,FALSE())=YEAR(N39)),1,0) -> 0 | K39: N | O39: =IF(L39="","",F39) | P39: =IF(B39<>$M$5,"",VLOOKUP(A39,cod_cat,2,FALSE())) | Q39: =IF(B39<>$M$5,"",$M$4) | R39: =IF(B39<>$M$5,"",$R$2)
A40: =IF(N40="","",IF(G40=1,E40,"Erreur")) | B40: =IF(N40="","",IF(G40=1,$M$5,"date")) | C40: =IF(N40="","",IF(G40=1,D40,"de")) | D40: 8 | E40: 06 | F40: G | G40: =IF(OR(VLOOKUP(E40,cod_cat,3,FALSE())=YEAR(N40),VLOOKUP(E40,cod_cat,4,FALSE())=YEAR(N40)),1,0) -> 0 | K40: N | O40: =IF(L40="","",F40) | P40: =IF(B40<>$M$5,"",VLOOKUP(A40,cod_cat,2,FALSE())) | Q40: =IF(B40<>$M$5,"",$M$4) | R40: =IF(B40<>$M$5,"",$R$2)
A41: =IF(N41="","",IF(G41=1,E41,"Erreur")) | B41: =IF(N41="","",IF(G41=1,$M$5,"date")) | C41: =IF(N41="","",IF(G41=1,D41,"de")) | D41: 1 | E41: 07 | F41: F | G41: =IF(OR(VLOOKUP(E41,cod_cat,3,FALSE())=YEAR(N41),VLOOKUP(E41,cod_cat,4,FALSE())=YEAR(N41)),1,0) -> 0 | I41: =IFERROR(VLOOKUP(E41,cod_cat,3,FALSE()),"-") -> 2015 | J41: BENJAMINES 1 - BF1 | K41: =IF(N41="","",IF(G41=1,A41&" "&B41&" "&C41,"Naissance")) | O41: =IF(L41="","",F41) | P41: =IF(B41<>$M$5,"",VLOOKUP(A41,cod_cat,2,FALSE())) | Q41: =IF(B41<>$M$5,"",$M$4) | R41: =IF(B41<>$M$5,"",$R$2)
A42: =IF(N42="","",IF(G42=1,E42,"Erreur")) | B42: =IF(N42="","",IF(G42=1,$M$5,"date")) | C42: =IF(N42="","",IF(G42=1,D42,"de")) | D42: 2 | E42: 07 | F42: F | G42: =IF(OR(VLOOKUP(E42,cod_cat,3,FALSE())=YEAR(N42),VLOOKUP(E42,cod_cat,4,FALSE())=YEAR(N42)),1,0) -> 0 | K42: =IF(N42="","",IF(G42=1,A42&" "&B42&" "&C42,"Naissance")) | O42: =IF(L42="","",F42) | P42: =IF(B42<>$M$5,"",VLOOKUP(A42,cod_cat,2,FALSE())) | Q42: =IF(B42<>$M$5,"",$M$4) | R42: =IF(B42<>$M$5,"",$R$2)
A43: =IF(N43="","",IF(G43=1,E43,"Erreur")) | B43: =IF(N43="","",IF(G43=1,$M$5,"date")) | C43: =IF(N43="","",IF(G43=1,D43,"de")) | D43: 3 | E43: 07 | F43: F | G43: =IF(OR(VLOOKUP(E43,cod_cat,3,FALSE())=YEAR(N43),VLOOKUP(E43,cod_cat,4,FALSE())=YEAR(N43)),1,0) -> 0 | K43: =IF(N43="","",IF(G43=1,A43&" "&B43&" "&C43,"Naissance")) | O43: =IF(L43="","",F43) | P43: =IF(B43<>$M$5,"",VLOOKUP(A43,cod_cat,2,FALSE())) | Q43: =IF(B43<>$M$5,"",$M$4) | R43: =IF(B43<>$M$5,"",$R$2)
A44: =IF(N44="","",IF(G44=1,E44,"Erreur")) | B44: =IF(N44="","",IF(G44=1,$M$5,"date")) | C44: =IF(N44="","",IF(G44=1,D44,"de")) | D44: 4 | E44: 07 | F44: F | G44: =IF(OR(VLOOKUP(E44,cod_cat,3,FALSE())=YEAR(N44),VLOOKUP(E44,cod_cat,4,FALSE())=YEAR(N44)),1,0) -> 0 | K44: =IF(N44="","",IF(G44=1,A44&" "&B44&" "&C44,"Naissance")) | O44: =IF(L44="","",F44) | P44: =IF(B44<>$M$5,"",VLOOKUP(A44,cod_cat,2,FALSE())) | Q44: =IF(B44<>$M$5,"",$M$4) | R44: =IF(B44<>$M$5,"",$R$2)
A45: =IF(N45="","",IF(G45=1,E45,"Erreur")) | B45: =IF(N45="","",IF(G45=1,$M$5,"date")) | C45: =IF(N45="","",IF(G45=1,D45,"de")) | D45: 5 | E45: 07 | F45: F | G45: =IF(OR(VLOOKUP(E45,cod_cat,3,FALSE())=YEAR(N45),VLOOKUP(E45,cod_cat,4,FALSE())=YEAR(N45)),1,0) -> 0 | K45: =IF(N45="","",IF(G45=1,A45&" "&B45&" "&C45,"Naissance")) | O45: =IF(L45="","",F45) | P45: =IF(B45<>$M$5,"",VLOOKUP(A45,cod_cat,2,FALSE())) | Q45: =IF(B45<>$M$5,"",$M$4) | R45: =IF(B45<>$M$5,"",$R$2)
A46: =IF(N46="","",IF(G46=1,E46,"Erreur")) | B46: =IF(N46="","",IF(G46=1,$M$5,"date")) | C46: =IF(N46="","",IF(G46=1,D46,"de")) | D46: 6 | E46: 07 | F46: F | G46: =IF(OR(VLOOKUP(E46,cod_cat,3,FALSE())=YEAR(N46),VLOOKUP(E46,cod_cat,4,FALSE())=YEAR(N46)),1,0) -> 0 | K46: =IF(N46="","",IF(G46=1,A46&" "&B46&" "&C46,"Naissance")) | O46: =IF(L46="","",F46) | P46: =IF(B46<>$M$5,"",VLOOKUP(A46,cod_cat,2,FALSE())) | Q46: =IF(B46<>$M$5,"",$M$4) | R46: =IF(B46<>$M$5,"",$R$2)
A47: =IF(N47="","",IF(G47=1,E47,"Erreur")) | B47: =IF(N47="","",IF(G47=1,$M$5,"date")) | C47: =IF(N47="","",IF(G47=1,D47,"de")) | D47: 7 | E47: 07 | F47: F | G47: =IF(OR(VLOOKUP(E47,cod_cat,3,FALSE())=YEAR(N47),VLOOKUP(E47,cod_cat,4,FALSE())=YEAR(N47)),1,0) -> 0 | K47: =IF(N47="","",IF(G47=1,A47&" "&B47&" "&C47,"Naissance")) | O47: =IF(L47="","",F47) | P47: =IF(B47<>$M$5,"",VLOOKUP(A47,cod_cat,2,FALSE())) | Q47: =IF(B47<>$M$5,"",$M$4) | R47: =IF(B47<>$M$5,"",$R$2)
A48: =IF(N48="","",IF(G48=1,E48,"Erreur")) | B48: =IF(N48="","",IF(G48=1,$M$5,"date")) | C48: =IF(N48="","",IF(G48=1,D48,"de")) | D48: 8 | E48: 07 | F48: F | G48: =IF(OR(VLOOKUP(E48,cod_cat,3,FALSE())=YEAR(N48),VLOOKUP(E48,cod_cat,4,FALSE())=YEAR(N48)),1,0) -> 0 | K48: =IF(N48="","",IF(G48=1,A48&" "&B48&" "&C48,"Naissance")) | O48: =IF(L48="","",F48) | P48: =IF(B48<>$M$5,"",VLOOKUP(A48,cod_cat,2,FALSE())) | Q48: =IF(B48<>$M$5,"",$M$4) | R48: =IF(B48<>$M$5,"",$R$2)
A49: =IF(N49="","",IF(G49=1,E49,"Erreur")) | B49: =IF(N49="","",IF(G49=1,$M$5,"date")) | C49: =IF(N49="","",IF(G49=1,D49,"de")) | D49: 1 | E49: 08 | F49: G | G49: =IF(OR(VLOOKUP(E49,cod_cat,3,FALSE())=YEAR(N49),VLOOKUP(E49,cod_cat,4,FALSE())=YEAR(N49)),1,0) -> 0 | J49: BENJAMINS 1 - BG1 | K49: =IF(N49="","",IF(G49=1,A49&" "&B49&" "&C49,"Naissance")) | O49: =IF(L49="","",F49) | P49: =IF(B49<>$M$5,"",VLOOKUP(A49,cod_cat,2,FALSE())) | Q49: =IF(B49<>$M$5,"",$M$4) | R49: =IF(B49<>$M$5,"",$R$2)
A50: =IF(N50="","",IF(G50=1,E50,"Erreur")) | B50: =IF(N50="","",IF(G50=1,$M$5,"date")) | C50: =IF(N50="","",IF(G50=1,D50,"de")) | D50: 2 | E50: 08 | F50: G | G50: =IF(OR(VLOOKUP(E50,cod_cat,3,FALSE())=YEAR(N50),VLOOKUP(E50,cod_cat,4,FALSE())=YEAR(N50)),1,0) -> 0 | K50: =IF(N50="","",IF(G50=1,A50&" "&B50&" "&C50,"Naissance")) | O50: =IF(L50="","",F50) | P50: =IF(B50<>$M$5,"",VLOOKUP(A50,cod_cat,2,FALSE())) | Q50: =IF(B50<>$M$5,"",$M$4) | R50: =IF(B50<>$M$5,"",$R$2)
A51: =IF(N51="","",IF(G51=1,E51,"Erreur")) | B51: =IF(N51="","",IF(G51=1,$M$5,"date")) | C51: =IF(N51="","",IF(G51=1,D51,"de")) | D51: 3 | E51: 08 | F51: G | G51: =IF(OR(VLOOKUP(E51,cod_cat,3,FALSE())=YEAR(N51),VLOOKUP(E51,cod_cat,4,FALSE())=YEAR(N51)),1,0) -> 0 | K51: =IF(N51="","",IF(G51=1,A51&" "&B51&" "&C51,"Naissance")) | O51: =IF(L51="","",F51) | P51: =IF(B51<>$M$5,"",VLOOKUP(A51,cod_cat,2,FALSE())) | Q51: =IF(B51<>$M$5,"",$M$4) | R51: =IF(B51<>$M$5,"",$R$2)
A52: =IF(N52="","",IF(G52=1,E52,"Erreur")) | B52: =IF(N52="","",IF(G52=1,$M$5,"date")) | C52: =IF(N52="","",IF(G52=1,D52,"de")) | D52: 4 | E52: 08 | F52: G | G52: =IF(OR(VLOOKUP(E52,cod_cat,3,FALSE())=YEAR(N52),VLOOKUP(E52,cod_cat,4,FALSE())=YEAR(N52)),1,0) -> 0 | K52: =IF(N52="","",IF(G52=1,A52&" "&B52&" "&C52,"Naissance")) | O52: =IF(L52="","",F52) | P52: =IF(B52<>$M$5,"",VLOOKUP(A52,cod_cat,2,FALSE())) | Q52: =IF(B52<>$M$5,"",$M$4) | R52: =IF(B52<>$M$5,"",$R$2)
A53: =IF(N53="","",IF(G53=1,E53,"Erreur")) | B53: =IF(N53="","",IF(G53=1,$M$5,"date")) | C53: =IF(N53="","",IF(G53=1,D53,"de")) | D53: 5 | E53: 08 | F53: G | G53: =IF(OR(VLOOKUP(E53,cod_cat,3,FALSE())=YEAR(N53),VLOOKUP(E53,cod_cat,4,FALSE())=YEAR(N53)),1,0) -> 0 | K53: =IF(N53="","",IF(G53=1,A53&" "&B53&" "&C53,"Naissance")) | O53: =IF(L53="","",F53) | P53: =IF(B53<>$M$5,"",VLOOKUP(A53,cod_cat,2,FALSE())) | Q53: =IF(B53<>$M$5,"",$M$4) | R53: =IF(B53<>$M$5,"",$R$2)
A54: =IF(N54="","",IF(G54=1,E54,"Erreur")) | B54: =IF(N54="","",IF(G54=1,$M$5,"date")) | C54: =IF(N54="","",IF(G54=1,D54,"de")) | D54: 6 | E54: 08 | F54: G | G54: =IF(OR(VLOOKUP(E54,cod_cat,3,FALSE())=YEAR(N54),VLOOKUP(E54,cod_cat,4,FALSE())=YEAR(N54)),1,0) -> 0 | K54: =IF(N54="","",IF(G54=1,A54&" "&B54&" "&C54,"Naissance")) | O54: =IF(L54="","",F54) | P54: =IF(B54<>$M$5,"",VLOOKUP(A54,cod_cat,2,FALSE())) | Q54: =IF(B54<>$M$5,"",$M$4) | R54: =IF(B54<>$M$5,"",$R$2)
A55: =IF(N55="","",IF(G55=1,E55,"Erreur")) | B55: =IF(N55="","",IF(G55=1,$M$5,"date")) | C55: =IF(N55="","",IF(G55=1,D55,"de")) | D55: 7 | E55: 08 | F55: G | G55: =IF(OR(VLOOKUP(E55,cod_cat,3,FALSE())=YEAR(N55),VLOOKUP(E55,cod_cat,4,FALSE())=YEAR(N55)),1,0) -> 0 | K55: =IF(N55="","",IF(G55=1,A55&" "&B55&" "&C55,"Naissance")) | O55: =IF(L55="","",F55) | P55: =IF(B55<>$M$5,"",VLOOKUP(A55,cod_cat,2,FALSE())) | Q55: =IF(B55<>$M$5,"",$M$4) | R55: =IF(B55<>$M$5,"",$R$2)
A56: =IF(N56="","",IF(G56=1,E56,"Erreur")) | B56: =IF(N56="","",IF(G56=1,$M$5,"date")) | C56: =IF(N56="","",IF(G56=1,D56,"de")) | D56: 8 | E56: 08 | F56: G | G56: =IF(OR(VLOOKUP(E56,cod_cat,3,FALSE())=YEAR(N56),VLOOKUP(E56,cod_cat,4,FALSE())=YEAR(N56)),1,0) -> 0 | K56: =IF(N56="","",IF(G56=1,A56&" "&B56&" "&C56,"Naissance")) | O56: =IF(L56="","",F56) | P56: =IF(B56<>$M$5,"",VLOOKUP(A56,cod_cat,2,FALSE())) | Q56: =IF(B56<>$M$5,"",$M$4) | R56: =IF(B56<>$M$5,"",$R$2)
A57: =IF(N57="","",IF(G57=1,E57,"Erreur")) | B57: =IF(N57="","",IF(G57=1,$M$5,"date")) | C57: =IF(N57="","",IF(G57=1,D57,"de")) | D57: 1 | E57: 09 | F57: F | G57: =IF(OR(VLOOKUP(E57,cod_cat,3,FALSE())=YEAR(N57),VLOOKUP(E57,cod_cat,4,FALSE())=YEAR(N57)),1,0) -> 0 | I57: =IFERROR(VLOOKUP(E57,cod_cat,3,FALSE()),"-") -> 2014 | J57: BENJAMINES 2 - BF2 | K57: =IF(N57="","",IF(G57=1,A57&" "&B57&" "&C57,"Naissance")) | O57: =IF(L57="","",F57) | P57: =IF(B57<>$M$5,"",VLOOKUP(A57,cod_cat,2,FALSE())) | Q57: =IF(B57<>$M$5,"",$M$4) | R57: =IF(B57<>$M$5,"",$R$2)
A58: =IF(N58="","",IF(G58=1,E58,"Erreur")) | B58: =IF(N58="","",IF(G58=1,$M$5,"date")) | C58: =IF(N58="","",IF(G58=1,D58,"de")) | D58: 2 | E58: 09 | F58: F | G58: =IF(OR(VLOOKUP(E58,cod_cat,3,FALSE())=YEAR(N58),VLOOKUP(E58,cod_cat,4,FALSE())=YEAR(N58)),1,0) -> 0 | K58: =IF(N58="","",IF(G58=1,A58&" "&B58&" "&C58,"Naissance")) | O58: =IF(L58="","",F58) | P58: =IF(B58<>$M$5,"",VLOOKUP(A58,cod_cat,2,FALSE())) | Q58: =IF(B58<>$M$5,"",$M$4) | R58: =IF(B58<>$M$5,"",$R$2)
A59: =IF(N59="","",IF(G59=1,E59,"Erreur")) | B59: =IF(N59="","",IF(G59=1,$M$5,"date")) | C59: =IF(N59="","",IF(G59=1,D59,"de")) | D59: 3 | E59: 09 | F59: F | G59: =IF(OR(VLOOKUP(E59,cod_cat,3,FALSE())=YEAR(N59),VLOOKUP(E59,cod_cat,4,FALSE())=YEAR(N59)),1,0) -> 0 | K59: =IF(N59="","",IF(G59=1,A59&" "&B59&" "&C59,"Naissance")) | O59: =IF(L59="","",F59) | P59: =IF(B59<>$M$5,"",VLOOKUP(A59,cod_cat,2,FALSE())) | Q59: =IF(B59<>$M$5,"",$M$4) | R59: =IF(B59<>$M$5,"",$R$2)
A60: =IF(N60="","",IF(G60=1,E60,"Erreur")) | B60: =IF(N60="","",IF(G60=1,$M$5,"date")) | C60: =IF(N60="","",IF(G60=1,D60,"de")) | D60: 4 | E60: 09 | F60: F | G60: =IF(OR(VLOOKUP(E60,cod_cat,3,FALSE())=YEAR(N60),VLOOKUP(E60,cod_cat,4,FALSE())=YEAR(N60)),1,0) -> 0 | K60: =IF(N60="","",IF(G60=1,A60&" "&B60&" "&C60,"Naissance")) | O60: =IF(L60="","",F60) | P60: =IF(B60<>$M$5,"",VLOOKUP(A60,cod_cat,2,FALSE())) | Q60: =IF(B60<>$M$5,"",$M$4) | R60: =IF(B60<>$M$5,"",$R$2)
A61: =IF(N61="","",IF(G61=1,E61,"Erreur")) | B61: =IF(N61="","",IF(G61=1,$M$5,"date")) | C61: =IF(N61="","",IF(G61=1,D61,"de")) | D61: 5 | E61: 09 | F61: F | G61: =IF(OR(VLOOKUP(E61,cod_cat,3,FALSE())=YEAR(N61),VLOOKUP(E61,cod_cat,4,FALSE())=YEAR(N61)),1,0) -> 0 | K61: =IF(N61="","",IF(G61=1,A61&" "&B61&" "&C61,"Naissance")) | O61: =IF(L61="","",F61) | P61: =IF(B61<>$M$5,"",VLOOKUP(A61,cod_cat,2,FALSE())) | Q61: =IF(B61<>$M$5,"",$M$4) | R61: =IF(B61<>$M$5,"",$R$2)
A62: =IF(N62="","",IF(G62=1,E62,"Erreur")) | B62: =IF(N62="","",IF(G62=1,$M$5,"date")) | C62: =IF(N62="","",IF(G62=1,D62,"de")) | D62: 6 | E62: 09 | F62: F | G62: =IF(OR(VLOOKUP(E62,cod_cat,3,FALSE())=YEAR(N62),VLOOKUP(E62,cod_cat,4,FALSE())=YEAR(N62)),1,0) -> 0 | K62: =IF(N62="","",IF(G62=1,A62&" "&B62&" "&C62,"Naissance")) | O62: =IF(L62="","",F62) | P62: =IF(B62<>$M$5,"",VLOOKUP(A62,cod_cat,2,FALSE())) | Q62: =IF(B62<>$M$5,"",$M$4) | R62: =IF(B62<>$M$5,"",$R$2)
A63: =IF(N63="","",IF(G63=1,E63,"Erreur")) | B63: =IF(N63="","",IF(G63=1,$M$5,"date")) | C63: =IF(N63="","",IF(G63=1,D63,"de")) | D63: 7 | E63: 09 | F63: F | G63: =IF(OR(VLOOKUP(E63,cod_cat,3,FALSE())=YEAR(N63),VLOOKUP(E63,cod_cat,4,FALSE())=YEAR(N63)),1,0) -> 0 | K63: =IF(N63="","",IF(G63=1,A63&" "&B63&" "&C63,"Naissance")) | O63: =IF(L63="","",F63) | P63: =IF(B63<>$M$5,"",VLOOKUP(A63,cod_cat,2,FALSE())) | Q63: =IF(B63<>$M$5,"",$M$4) | R63: =IF(B63<>$M$5,"",$R$2)
A64: =IF(N64="","",IF(G64=1,E64,"Erreur")) | B64: =IF(N64="","",IF(G64=1,$M$5,"date")) | C64: =IF(N64="","",IF(G64=1,D64,"de")) | D64: 8 | E64: 09 | F64: F | G64: =IF(OR(VLOOKUP(E64,cod_cat,3,FALSE())=YEAR(N64),VLOOKUP(E64,cod_cat,4,FALSE())=YEAR(N64)),1,0) -> 0 | K64: =IF(N64="","",IF(G64=1,A64&" "&B64&" "&C64,"Naissance")) | O64: =IF(L64="","",F64) | P64: =IF(B64<>$M$5,"",VLOOKUP(A64,cod_cat,2,FALSE())) | Q64: =IF(B64<>$M$5,"",$M$4) | R64: =IF(B64<>$M$5,"",$R$2)
A65: =IF(N65="","",IF(G65=1,E65,"Erreur")) | B65: =IF(N65="","",IF(G65=1,$M$5,"date")) | C65: =IF(N65="","",IF(G65=1,D65,"de")) | D65: 1 | E65: 10 | F65: G | G65: =IF(OR(VLOOKUP(E65,cod_cat,3,FALSE())=YEAR(N65),VLOOKUP(E65,cod_cat,4,FALSE())=YEAR(N65)),1,0) -> 0 | J65: BENJAMINS 2 - BG2 | K65: =IF(N65="","",IF(G65=1,A65&" "&B65&" "&C65,"Naissance")) | O65: =IF(L65="","",F65) | P65: =IF(B65<>$M$5,"",VLOOKUP(A65,cod_cat,2,FALSE())) | Q65: =IF(B65<>$M$5,"",$M$4) | R65: =IF(B65<>$M$5,"",$R$2)
A66: =IF(N66="","",IF(G66=1,E66,"Erreur")) | B66: =IF(N66="","",IF(G66=1,$M$5,"date")) | C66: =IF(N66="","",IF(G66=1,D66,"de")) | D66: 2 | E66: 10 | F66: G | G66: =IF(OR(VLOOKUP(E66,cod_cat,3,FALSE())=YEAR(N66),VLOOKUP(E66,cod_cat,4,FALSE())=YEAR(N66)),1,0) -> 0 | K66: =IF(N66="","",IF(G66=1,A66&" "&B66&" "&C66,"Naissance")) | O66: =IF(L66="","",F66) | P66: =IF(B66<>$M$5,"",VLOOKUP(A66,cod_cat,2,FALSE())) | Q66: =IF(B66<>$M$5,"",$M$4) | R66: =IF(B66<>$M$5,"",$R$2)
A67: =IF(N67="","",IF(G67=1,E67,"Erreur")) | B67: =IF(N67="","",IF(G67=1,$M$5,"date")) | C67: =IF(N67="","",IF(G67=1,D67,"de")) | D67: 3 | E67: 10 | F67: G | G67: =IF(OR(VLOOKUP(E67,cod_cat,3,FALSE())=YEAR(N67),VLOOKUP(E67,cod_cat,4,FALSE())=YEAR(N67)),1,0) -> 0 | K67: =IF(N67="","",IF(G67=1,A67&" "&B67&" "&C67,"Naissance")) | O67: =IF(L67="","",F67) | P67: =IF(B67<>$M$5,"",VLOOKUP(A67,cod_cat,2,FALSE())) | Q67: =IF(B67<>$M$5,"",$M$4) | R67: =IF(B67<>$M$5,"",$R$2)
A68: =IF(N68="","",IF(G68=1,E68,"Erreur")) | B68: =IF(N68="","",IF(G68=1,$M$5,"date")) | C68: =IF(N68="","",IF(G68=1,D68,"de")) | D68: 4 | E68: 10 | F68: G | G68: =IF(OR(VLOOKUP(E68,cod_cat,3,FALSE())=YEAR(N68),VLOOKUP(E68,cod_cat,4,FALSE())=YEAR(N68)),1,0) -> 0 | K68: =IF(N68="","",IF(G68=1,A68&" "&B68&" "&C68,"Naissance")) | O68: =IF(L68="","",F68) | P68: =IF(B68<>$M$5,"",VLOOKUP(A68,cod_cat,2,FALSE())) | Q68: =IF(B68<>$M$5,"",$M$4) | R68: =IF(B68<>$M$5,"",$R$2)
A69: =IF(N69="","",IF(G69=1,E69,"Erreur")) | B69: =IF(N69="","",IF(G69=1,$M$5,"date")) | C69: =IF(N69="","",IF(G69=1,D69,"de")) | D69: 5 | E69: 10 | F69: G | G69: =IF(OR(VLOOKUP(E69,cod_cat,3,FALSE())=YEAR(N69),VLOOKUP(E69,cod_cat,4,FALSE())=YEAR(N69)),1,0) -> 0 | K69: =IF(N69="","",IF(G69=1,A69&" "&B69&" "&C69,"Naissance")) | O69: =IF(L69="","",F69) | P69: =IF(B69<>$M$5,"",VLOOKUP(A69,cod_cat,2,FALSE())) | Q69: =IF(B69<>$M$5,"",$M$4) | R69: =IF(B69<>$M$5,"",$R$2)
A70: =IF(N70="","",IF(G70=1,E70,"Erreur")) | B70: =IF(N70="","",IF(G70=1,$M$5,"date")) | C70: =IF(N70="","",IF(G70=1,D70,"de")) | D70: 6 | E70: 10 | F70: G | G70: =IF(OR(VLOOKUP(E70,cod_cat,3,FALSE())=YEAR(N70),VLOOKUP(E70,cod_cat,4,FALSE())=YEAR(N70)),1,0) -> 0 | K70: =IF(N70="","",IF(G70=1,A70&" "&B70&" "&C70,"Naissance")) | O70: =IF(L70="","",F70) | P70: =IF(B70<>$M$5,"",VLOOKUP(A70,cod_cat,2,FALSE())) | Q70: =IF(B70<>$M$5,"",$M$4) | R70: =IF(B70<>$M$5,"",$R$2)
A71: =IF(N71="","",IF(G71=1,E71,"Erreur")) | B71: =IF(N71="","",IF(G71=1,$M$5,"date")) | C71: =IF(N71="","",IF(G71=1,D71,"de")) | D71: 7 | E71: 10 | F71: G | G71: =IF(OR(VLOOKUP(E71,cod_cat,3,FALSE())=YEAR(N71),VLOOKUP(E71,cod_cat,4,FALSE())=YEAR(N71)),1,0) -> 0 | K71: =IF(N71="","",IF(G71=1,A71&" "&B71&" "&C71,"Naissance")) | O71: =IF(L71="","",F71) | P71: =IF(B71<>$M$5,"",VLOOKUP(A71,cod_cat,2,FALSE())) | Q71: =IF(B71<>$M$5,"",$M$4) | R71: =IF(B71<>$M$5,"",$R$2)
A72: =IF(N72="","",IF(G72=1,E72,"Erreur")) | B72: =IF(N72="","",IF(G72=1,$M$5,"date")) | C72: =IF(N72="","",IF(G72=1,D72,"de")) | D72: 8 | E72: 10 | F72: G | G72: =IF(OR(VLOOKUP(E72,cod_cat,3,FALSE())=YEAR(N72),VLOOKUP(E72,cod_cat,4,FALSE())=YEAR(N72)),1,0) -> 0 | K72: =IF(N72="","",IF(G72=1,A72&" "&B72&" "&C72,"Naissance")) | O72: =IF(L72="","",F72) | P72: =IF(B72<>$M$5,"",VLOOKUP(A72,cod_cat,2,FALSE())) | Q72: =IF(B72<>$M$5,"",$M$4) | R72: =IF(B72<>$M$5,"",$R$2)
A73: =IF(N73="","",IF(G73=1,E73,"Erreur")) | B73: =IF(N73="","",IF(G73=1,$M$5,"date")) | C73: =IF(N73="","",IF(G73=1,D73,"de")) | D73: 1 | E73: 11 | F73: F | G73: =IF(OR(VLOOKUP(E73,cod_cat,3,FALSE())=YEAR(N73),VLOOKUP(E73,cod_cat,4,FALSE())=YEAR(N73)),1,0) -> 0 | I73: =IFERROR(VLOOKUP(E73,cod_cat,3,FALSE())&"-"&VLOOKUP(E73,cod_cat,4,FALSE()),"-") -> 2012-2013 | J73: MINIMES F - MF | K73: =IF(N73="","",IF(G73=1,A73&" "&B73&" "&C73,"Naissance")) | O73: =IF(L73="","",F73) | P73: =IF(B73<>$M$5,"",VLOOKUP(A73,cod_cat,2,FALSE())) | Q73: =IF(B73<>$M$5,"",$M$4) | R73: =IF(B73<>$M$5,"",$R$2)
A74: =IF(N74="","",IF(G74=1,E74,"Erreur")) | B74: =IF(N74="","",IF(G74=1,$M$5,"date")) | C74: =IF(N74="","",IF(G74=1,D74,"de")) | D74: 2 | E74: 11 | F74: F | G74: =IF(OR(VLOOKUP(E74,cod_cat,3,FALSE())=YEAR(N74),VLOOKUP(E74,cod_cat,4,FALSE())=YEAR(N74)),1,0) -> 0 | K74: =IF(N74="","",IF(G74=1,A74&" "&B74&" "&C74,"Naissance")) | O74: =IF(L74="","",F74) | P74: =IF(B74<>$M$5,"",VLOOKUP(A74,cod_cat,2,FALSE())) | Q74: =IF(B74<>$M$5,"",$M$4) | R74: =IF(B74<>$M$5,"",$R$2)
A75: =IF(N75="","",IF(G75=1,E75,"Erreur")) | B75: =IF(N75="","",IF(G75=1,$M$5,"date")) | C75: =IF(N75="","",IF(G75=1,D75,"de")) | D75: 3 | E75: 11 | F75: F | G75: =IF(OR(VLOOKUP(E75,cod_cat,3,FALSE())=YEAR(N75),VLOOKUP(E75,cod_cat,4,FALSE())=YEAR(N75)),1,0) -> 0 | K75: =IF(N75="","",IF(G75=1,A75&" "&B75&" "&C75,"Naissance")) | O75: =IF(L75="","",F75) | P75: =IF(B75<>$M$5,"",VLOOKUP(A75,cod_cat,2,FALSE())) | Q75: =IF(B75<>$M$5,"",$M$4) | R75: =IF(B75<>$M$5,"",$R$2)
A76: =IF(N76="","",IF(G76=1,E76,"Erreur")) | B76: =IF(N76="","",IF(G76=1,$M$5,"date")) | C76: =IF(N76="","",IF(G76=1,D76,"de")) | D76: 4 | E76: 11 | F76: F | G76: =IF(OR(VLOOKUP(E76,cod_cat,3,FALSE())=YEAR(N76),VLOOKUP(E76,cod_cat,4,FALSE())=YEAR(N76)),1,0) -> 0 | K76: =IF(N76="","",IF(G76=1,A76&" "&B76&" "&C76,"Naissance")) | O76: =IF(L76="","",F76) | P76: =IF(B76<>$M$5,"",VLOOKUP(A76,cod_cat,2,FALSE())) | Q76: =IF(B76<>$M$5,"",$M$4) | R76: =IF(B76<>$M$5,"",$R$2)
A77: =IF(N77="","",IF(G77=1,E77,"Erreur")) | B77: =IF(N77="","",IF(G77=1,$M$5,"date")) | C77: =IF(N77="","",IF(G77=1,D77,"de")) | D77: 5 | E77: 11 | F77: F | G77: =IF(OR(VLOOKUP(E77,cod_cat,3,FALSE())=YEAR(N77),VLOOKUP(E77,cod_cat,4,FALSE())=YEAR(N77)),1,0) -> 0 | K77: =IF(N77="","",IF(G77=1,A77&" "&B77&" "&C77,"Naissance")) | O77: =IF(L77="","",F77) | P77: =IF(B77<>$M$5,"",VLOOKUP(A77,cod_cat,2,FALSE())) | Q77: =IF(B77<>$M$5,"",$M$4) | R77: =IF(B77<>$M$5,"",$R$2)
A78: =IF(N78="","",IF(G78=1,E78,"Erreur")) | B78: =IF(N78="","",IF(G78=1,$M$5,"date")) | C78: =IF(N78="","",IF(G78=1,D78,"de")) | D78: 6 | E78: 11 | F78: F | G78: =IF(OR(VLOOKUP(E78,cod_cat,3,FALSE())=YEAR(N78),VLOOKUP(E78,cod_cat,4,FALSE())=YEAR(N78)),1,0) -> 0 | K78: =IF(N78="","",IF(G78=1,A78&" "&B78&" "&C78,"Naissance")) | O78: =IF(L78="","",F78) | P78: =IF(B78<>$M$5,"",VLOOKUP(A78,cod_cat,2,FALSE())) | Q78: =IF(B78<>$M$5,"",$M$4) | R78: =IF(B78<>$M$5,"",$R$2)
A79: =IF(N79="","",IF(G79=1,E79,"Erreur")) | B79: =IF(N79="","",IF(G79=1,$M$5,"date")) | C79: =IF(N79="","",IF(G79=1,D79,"de")) | D79: 7 | E79: 11 | F79: F | G79: =IF(OR(VLOOKUP(E79,cod_cat,3,FALSE())=YEAR(N79),VLOOKUP(E79,cod_cat,4,FALSE())=YEAR(N79)),1,0) -> 0 | K79: =IF(N79="","",IF(G79=1,A79&" "&B79&" "&C79,"Naissance")) | O79: =IF(L79="","",F79) | P79: =IF(B79<>$M$5,"",VLOOKUP(A79,cod_cat,2,FALSE())) | Q79: =IF(B79<>$M$5,"",$M$4) | R79: =IF(B79<>$M$5,"",$R$2)
A80: =IF(N80="","",IF(G80=1,E80,"Erreur")) | B80: =IF(N80="","",IF(G80=1,$M$5,"date")) | C80: =IF(N80="","",IF(G80=1,D80,"de")) | D80: 8 | E80: 11 | F80: F | G80: =IF(OR(VLOOKUP(E80,cod_cat,3,FALSE())=YEAR(N80),VLOOKUP(E80,cod_cat,4,FALSE())=YEAR(N80)),1,0) -> 0 | K80: =IF(N80="","",IF(G80=1,A80&" "&B80&" "&C80,"Naissance")) | O80: =IF(L80="","",F80) | P80: =IF(B80<>$M$5,"",VLOOKUP(A80,cod_cat,2,FALSE())) | Q80: =IF(B80<>$M$5,"",$M$4) | R80: =IF(B80<>$M$5,"",$R$2)
A81: =IF(N81="","",IF(G81=1,E81,"Erreur")) | B81: =IF(N81="","",IF(G81=1,$M$5,"date")) | C81: =IF(N81="","",IF(G81=1,D81,"de")) | D81: 1 | E81: 12 | F81: G | G81: =IF(OR(VLOOKUP(E81,cod_cat,3,FALSE())=YEAR(N81),VLOOKUP(E81,cod_cat,4,FALSE())=YEAR(N81)),1,0) -> 0 | J81: MINIMES G - MG | K81: =IF(N81="","",IF(G81=1,A81&" "&B81&" "&C81,"Naissance")) | O81: =IF(L81="","",F81) | P81: =IF(B81<>$M$5,"",VLOOKUP(A81,cod_cat,2,FALSE())) | Q81: =IF(B81<>$M$5,"",$M$4) | R81: =IF(B81<>$M$5,"",$R$2)
A82: =IF(N82="","",IF(G82=1,E82,"Erreur")) | B82: =IF(N82="","",IF(G82=1,$M$5,"date")) | C82: =IF(N82="","",IF(G82=1,D82,"de")) | D82: 2 | E82: 12 | F82: G | G82: =IF(OR(VLOOKUP(E82,cod_cat,3,FALSE())=YEAR(N82),VLOOKUP(E82,cod_cat,4,FALSE())=YEAR(N82)),1,0) -> 0 | K82: =IF(N82="","",IF(G82=1,A82&" "&B82&" "&C82,"Naissance")) | O82: =IF(L82="","",F82) | P82: =IF(B82<>$M$5,"",VLOOKUP(A82,cod_cat,2,FALSE())) | Q82: =IF(B82<>$M$5,"",$M$4) | R82: =IF(B82<>$M$5,"",$R$2)
A83: =IF(N83="","",IF(G83=1,E83,"Erreur")) | B83: =IF(N83="","",IF(G83=1,$M$5,"date")) | C83: =IF(N83="","",IF(G83=1,D83,"de")) | D83: 3 | E83: 12 | F83: G | G83: =IF(OR(VLOOKUP(E83,cod_cat,3,FALSE())=YEAR(N83),VLOOKUP(E83,cod_cat,4,FALSE())=YEAR(N83)),1,0) -> 0 | K83: =IF(N83="","",IF(G83=1,A83&" "&B83&" "&C83,"Naissance")) | O83: =IF(L83="","",F83) | P83: =IF(B83<>$M$5,"",VLOOKUP(A83,cod_cat,2,FALSE())) | Q83: =IF(B83<>$M$5,"",$M$4) | R83: =IF(B83<>$M$5,"",$R$2)
A84: =IF(N84="","",IF(G84=1,E84,"Erreur")) | B84: =IF(N84="","",IF(G84=1,$M$5,"date")) | C84: =IF(N84="","",IF(G84=1,D84,"de")) | D84: 4 | E84: 12 | F84: G | G84: =IF(OR(VLOOKUP(E84,cod_cat,3,FALSE())=YEAR(N84),VLOOKUP(E84,cod_cat,4,FALSE())=YEAR(N84)),1,0) -> 0 | K84: =IF(N84="","",IF(G84=1,A84&" "&B84&" "&C84,"Naissance")) | O84: =IF(L84="","",F84) | P84: =IF(B84<>$M$5,"",VLOOKUP(A84,cod_cat,2,FALSE())) | Q84: =IF(B84<>$M$5,"",$M$4) | R84: =IF(B84<>$M$5,"",$R$2)
A85: =IF(N85="","",IF(G85=1,E85,"Erreur")) | B85: =IF(N85="","",IF(G85=1,$M$5,"date")) | C85: =IF(N85="","",IF(G85=1,D85,"de")) | D85: 5 | E85: 12 | F85: G | G85: =IF(OR(VLOOKUP(E85,cod_cat,3,FALSE())=YEAR(N85),VLOOKUP(E85,cod_cat,4,FALSE())=YEAR(N85)),1,0) -> 0 | K85: =IF(N85="","",IF(G85=1,A85&" "&B85&" "&C85,"Naissance")) | O85: =IF(L85="","",F85) | P85: =IF(B85<>$M$5,"",VLOOKUP(A85,cod_cat,2,FALSE())) | Q85: =IF(B85<>$M$5,"",$M$4) | R85: =IF(B85<>$M$5,"",$R$2)
A86: =IF(N86="","",IF(G86=1,E86,"Erreur")) | B86: =IF(N86="","",IF(G86=1,$M$5,"date")) | C86: =IF(N86="","",IF(G86=1,D86,"de")) | D86: 6 | E86: 12 | F86: G | G86: =IF(OR(VLOOKUP(E86,cod_cat,3,FALSE())=YEAR(N86),VLOOKUP(E86,cod_cat,4,FALSE())=YEAR(N86)),1,0) -> 0 | K86: =IF(N86="","",IF(G86=1,A86&" "&B86&" "&C86,"Naissance")) | O86: =IF(L86="","",F86) | P86: =IF(B86<>$M$5,"",VLOOKUP(A86,cod_cat,2,FALSE())) | Q86: =IF(B86<>$M$5,"",$M$4) | R86: =IF(B86<>$M$5,"",$R$2)
A87: =IF(N87="","",IF(G87=1,E87,"Erreur")) | B87: =IF(N87="","",IF(G87=1,$M$5,"date")) | C87: =IF(N87="","",IF(G87=1,D87,"de")) | D87: 7 | E87: 12 | F87: G | G87: =IF(OR(VLOOKUP(E87,cod_cat,3,FALSE())=YEAR(N87),VLOOKUP(E87,cod_cat,4,FALSE())=YEAR(N87)),1,0) -> 0 | K87: =IF(N87="","",IF(G87=1,A87&" "&B87&" "&C87,"Naissance")) | O87: =IF(L87="","",F87) | P87: =IF(B87<>$M$5,"",VLOOKUP(A87,cod_cat,2,FALSE())) | Q87: =IF(B87<>$M$5,"",$M$4) | R87: =IF(B87<>$M$5,"",$R$2)
A88: =IF(N88="","",IF(G88=1,E88,"Erreur")) | B88: =IF(N88="","",IF(G88=1,$M$5,"date")) | C88: =IF(N88="","",IF(G88=1,D88,"de")) | D88: 8 | E88: 12 | F88: G | G88: =IF(OR(VLOOKUP(E88,cod_cat,3,FALSE())=YEAR(N88),VLOOKUP(E88,cod_cat,4,FALSE())=YEAR(N88)),1,0) -> 0 | K88: =IF(N88="","",IF(G88=1,A88&" "&B88&" "&C88,"Naissance")) | O88: =IF(L88="","",F88) | P88: =IF(B88<>$M$5,"",VLOOKUP(A88,cod_cat,2,FALSE())) | Q88: =IF(B88<>$M$5,"",$M$4) | R88: =IF(B88<>$M$5,"",$R$2)
A89: =IF(N89="","",IF(G89=1,E89,"Erreur")) | B89: =IF(N89="","",IF(G89=1,$M$5,"date")) | C89: =IF(N89="","",IF(G89=1,D89,"de")) | D89: 1 | E89: 13 | F89: F | G89: =IF(OR(VLOOKUP(E89,cod_cat,3,FALSE())=YEAR(N89),VLOOKUP(E89,cod_cat,4,FALSE())=YEAR(N89)),1,0) -> 0 | I89: =IFERROR(VLOOKUP(E89,cod_cat,3,FALSE())&"-"&VLOOKUP(E89,cod_cat,4,FALSE()),"-") -> 2010-2011 | J89: CADETTES - CF | K89: =IF(N89="","",IF(G89=1,A89&" "&B89&" "&C89,"Naissance")) | O89: =IF(L89="","",F89) | P89: =IF(B89<>$M$5,"",VLOOKUP(A89,cod_cat,2,FALSE())) | Q89: =IF(B89<>$M$5,"",$M$4) | R89: =IF(B89<>$M$5,"",$R$2)
A90: =IF(N90="","",IF(G90=1,E90,"Erreur")) | B90: =IF(N90="","",IF(G90=1,$M$5,"date")) | C90: =IF(N90="","",IF(G90=1,D90,"de")) | D90: 2 | E90: 13 | F90: F | G90: =IF(OR(VLOOKUP(E90,cod_cat,3,FALSE())=YEAR(N90),VLOOKUP(E90,cod_cat,4,FALSE())=YEAR(N90)),1,0) -> 0 | K90: =IF(N90="","",IF(G90=1,A90&" "&B90&" "&C90,"Naissance")) | O90: =IF(L90="","",F90) | P90: =IF(B90<>$M$5,"",VLOOKUP(A90,cod_cat,2,FALSE())) | Q90: =IF(B90<>$M$5,"",$M$4) | R90: =IF(B90<>$M$5,"",$R$2)
A91: =IF(N91="","",IF(G91=1,E91,"Erreur")) | B91: =IF(N91="","",IF(G91=1,$M$5,"date")) | C91: =IF(N91="","",IF(G91=1,D91,"de")) | D91: 3 | E91: 13 | F91: F | G91: =IF(OR(VLOOKUP(E91,cod_cat,3,FALSE())=YEAR(N91),VLOOKUP(E91,cod_cat,4,FALSE())=YEAR(N91)),1,0) -> 0 | K91: =IF(N91="","",IF(G91=1,A91&" "&B91&" "&C91,"Naissance")) | O91: =IF(L91="","",F91) | P91: =IF(B91<>$M$5,"",VLOOKUP(A91,cod_cat,2,FALSE())) | Q91: =IF(B91<>$M$5,"",$M$4) | R91: =IF(B91<>$M$5,"",$R$2)
A92: =IF(N92="","",IF(G92=1,E92,"Erreur")) | B92: =IF(N92="","",IF(G92=1,$M$5,"date")) | C92: =IF(N92="","",IF(G92=1,D92,"de")) | D92: 4 | E92: 13 | F92: F | G92: =IF(OR(VLOOKUP(E92,cod_cat,3,FALSE())=YEAR(N92),VLOOKUP(E92,cod_cat,4,FALSE())=YEAR(N92)),1,0) -> 0 | K92: =IF(N92="","",IF(G92=1,A92&" "&B92&" "&C92,"Naissance")) | O92: =IF(L92="","",F92) | P92: =IF(B92<>$M$5,"",VLOOKUP(A92,cod_cat,2,FALSE())) | Q92: =IF(B92<>$M$5,"",$M$4) | R92: =IF(B92<>$M$5,"",$R$2)
A93: =IF(N93="","",IF(G93=1,E93,"Erreur")) | B93: =IF(N93="","",IF(G93=1,$M$5,"date")) | C93: =IF(N93="","",IF(G93=1,D93,"de")) | D93: 5 | E93: 13 | F93: F | G93: =IF(OR(VLOOKUP(E93,cod_cat,3,FALSE())=YEAR(N93),VLOOKUP(E93,cod_cat,4,FALSE())=YEAR(N93)),1,0) -> 0 | K93: =IF(N93="","",IF(G93=1,A93&" "&B93&" "&C93,"Naissance")) | O93: =IF(L93="","",F93) | P93: =IF(B93<>$M$5,"",VLOOKUP(A93,cod_cat,2,FALSE())) | Q93: =IF(B93<>$M$5,"",$M$4) | R93: =IF(B93<>$M$5,"",$R$2)
A94: =IF(N94="","",IF(G94=1,E94,"Erreur")) | B94: =IF(N94="","",IF(G94=1,$M$5,"date")) | C94: =IF(N94="","",IF(G94=1,D94,"de")) | D94: 6 | E94: 13 | F94: F | G94: =IF(OR(VLOOKUP(E94,cod_cat,3,FALSE())=YEAR(N94),VLOOKUP(E94,cod_cat,4,FALSE())=YEAR(N94)),1,0) -> 0 | K94: =IF(N94="","",IF(G94=1,A94&" "&B94&" "&C94,"Naissance")) | O94: =IF(L94="","",F94) | P94: =IF(B94<>$M$5,"",VLOOKUP(A94,cod_cat,2,FALSE())) | Q94: =IF(B94<>$M$5,"",$M$4) | R94: =IF(B94<>$M$5,"",$R$2)
A95: =IF(N95="","",IF(G95=1,E95,"Erreur")) | B95: =IF(N95="","",IF(G95=1,$M$5,"date")) | C95: =IF(N95="","",IF(G95=1,D95,"de")) | D95: 7 | E95: 13 | F95: F | G95: =IF(OR(VLOOKUP(E95,cod_cat,3,FALSE())=YEAR(N95),VLOOKUP(E95,cod_cat,4,FALSE())=YEAR(N95)),1,0) -> 0 | K95: =IF(N95="","",IF(G95=1,A95&" "&B95&" "&C95,"Naissance")) | O95: =IF(L95="","",F95) | P95: =IF(B95<>$M$5,"",VLOOKUP(A95,cod_cat,2,FALSE())) | Q95: =IF(B95<>$M$5,"",$M$4) | R95: =IF(B95<>$M$5,"",$R$2)
A96: =IF(N96="","",IF(G96=1,E96,"Erreur")) | B96: =IF(N96="","",IF(G96=1,$M$5,"date")) | C96: =IF(N96="","",IF(G96=1,D96,"de")) | D96: 8 | E96: 13 | F96: F | G96: =IF(OR(VLOOKUP(E96,cod_cat,3,FALSE())=YEAR(N96),VLOOKUP(E96,cod_cat,4,FALSE())=YEAR(N96)),1,0) -> 0 | K96: =IF(N96="","",IF(G96=1,A96&" "&B96&" "&C96,"Naissance")) | O96: =IF(L96="","",F96) | P96: =IF(B96<>$M$5,"",VLOOKUP(A96,cod_cat,2,FALSE())) | Q96: =IF(B96<>$M$5,"",$M$4) | R96: =IF(B96<>$M$5,"",$R$2)
A97: =IF(N97="","",IF(G97=1,E97,"Erreur")) | B97: =IF(N97="","",IF(G97=1,$M$5,"date")) | C97: =IF(N97="","",IF(G97=1,D97,"de")) | D97: 1 | E97: 14 | F97: G | G97: =IF(OR(VLOOKUP(E97,cod_cat,3,FALSE())=YEAR(N97),VLOOKUP(E97,cod_cat,4,FALSE())=YEAR(N97)),1,0) -> 0 | J97: CADETS - CG | K97: =IF(N97="","",IF(G97=1,A97&" "&B97&" "&C97,"Naissance")) | O97: =IF(L97="","",F97) | P97: =IF(B97<>$M$5,"",VLOOKUP(A97,cod_cat,2,FALSE())) | Q97: =IF(B97<>$M$5,"",$M$4) | R97: =IF(B97<>$M$5,"",$R$2)
A98: =IF(N98="","",IF(G98=1,E98,"Erreur")) | B98: =IF(N98="","",IF(G98=1,$M$5,"date")) | C98: =IF(N98="","",IF(G98=1,D98,"de")) | D98: 2 | E98: 14 | F98: G | G98: =IF(OR(VLOOKUP(E98,cod_cat,3,FALSE())=YEAR(N98),VLOOKUP(E98,cod_cat,4,FALSE())=YEAR(N98)),1,0) -> 0 | K98: =IF(N98="","",IF(G98=1,A98&" "&B98&" "&C98,"Naissance")) | O98: =IF(L98="","",F98) | P98: =IF(B98<>$M$5,"",VLOOKUP(A98,cod_cat,2,FALSE())) | Q98: =IF(B98<>$M$5,"",$M$4) | R98: =IF(B98<>$M$5,"",$R$2)
A99: =IF(N99="","",IF(G99=1,E99,"Erreur")) | B99: =IF(N99="","",IF(G99=1,$M$5,"date")) | C99: =IF(N99="","",IF(G99=1,D99,"de")) | D99: 3 | E99: 14 | F99: G | G99: =IF(OR(VLOOKUP(E99,cod_cat,3,FALSE())=YEAR(N99),VLOOKUP(E99,cod_cat,4,FALSE())=YEAR(N99)),1,0) -> 0 | K99: =IF(N99="","",IF(G99=1,A99&" "&B99&" "&C99,"Naissance")) | O99: =IF(L99="","",F99) | P99: =IF(B99<>$M$5,"",VLOOKUP(A99,cod_cat,2,FALSE())) | Q99: =IF(B99<>$M$5,"",$M$4) | R99: =IF(B99<>$M$5,"",$R$2)
A100: =IF(N100="","",IF(G100=1,E100,"Erreur")) | B100: =IF(N100="","",IF(G100=1,$M$5,"date")) | C100: =IF(N100="","",IF(G100=1,D100,"de")) | D100: 4 | E100: 14 | F100: G | G100: =IF(OR(VLOOKUP(E100,cod_cat,3,FALSE())=YEAR(N100),VLOOKUP(E100,cod_cat,4,FALSE())=YEAR(N100)),1,0) -> 0 | K100: =IF(N100="","",IF(G100=1,A100&" "&B100&" "&C100,"Naissance")) | O100: =IF(L100="","",F100) | P100: =IF(B100<>$M$5,"",VLOOKUP(A100,cod_cat,2,FALSE())) | Q100: =IF(B100<>$M$5,"",$M$4) | R100: =IF(B100<>$M$5,"",$R$2)
A101: =IF(N101="","",IF(G101=1,E101,"Erreur")) | B101: =IF(N101="","",IF(G101=1,$M$5,"date")) | C101: =IF(N101="","",IF(G101=1,D101,"de")) | D101: 5 | E101: 14 | F101: G | G101: =IF(OR(VLOOKUP(E101,cod_cat,3,FALSE())=YEAR(N101),VLOOKUP(E101,cod_cat,4,FALSE())=YEAR(N101)),1,0) -> 0 | K101: =IF(N101="","",IF(G101=1,A101&" "&B101&" "&C101,"Naissance")) | O101: =IF(L101="","",F101) | P101: =IF(B101<>$M$5,"",VLOOKUP(A101,cod_cat,2,FALSE())) | Q101: =IF(B101<>$M$5,"",$M$4) | R101: =IF(B101<>$M$5,"",$R$2)
...

Sheet Ets et CODE
C1: CODE | D1: ETABLISSEMENT | F1: CODE | K1: RAPPEL CATEGORIE ET CODE | N1: Date PF3 le jour du cross : | Q1: 2017
A2: Ordre Tri | B2: Degré | C2: - Merci - | D2: CHOISISSEZ VOTRE ETABLISSEMENT | E2: - Merci - | F2: - Merci - | G2: Commune | H2: Ile | I2: Fédération | K2: Début | L2: Fin | M2: Année de naissance | N2: Code fille | O2: Code Garçon | P2: Catégorie | Q2: Distance | T2: Code | U2: Cat | V2: Année
A3: 1 | B3: a | C3: CODE | D3: - | E3: CODE | F3: CODE | G3: d | H3: e | I3: f | K3: 42736 | L3: =DATE(YEAR(K3),12,31) -> 43100 | M3: =YEAR(K3) -> 2017 | N3: 03 | O3: 04 | P3: Poussins (es) 1 | Q3: 1000 m | T3: 03 | U3: PF1 | V3: =M3 -> 2017
A4: 2 | D4: * ECOLES ASSEP * | K4: =DATE(YEAR(K3)-1,12,31) -> 42735 | L4: =DATE(YEAR(K4),12,31) -> 42735 | M4: =YEAR(K4) -> 2016 | N4: 05 | O4: 06 | P4: Poussins (es) 2 | Q4: 1300 m | T4: 04 | U4: PG1 | V4: =M3 -> 2017
A5: 3 | K5: =DATE(YEAR(K4)-1,12,31) -> 42369 | L5: =DATE(YEAR(K5),12,31) -> 42369 | M5: =YEAR(K5) -> 2015 | N5: 07 | O5: 08 | P5: Benjamins (es) 1 | Q5: 1300 m | T5: 05 | U5: PF2 | V5: =M4 -> 2016
A6: 4 | B6: 1 | C6: 107 | D6: Ec. CHARLES VIENOT | E6: 107 | F6: PAPEETE | G6: TAHITI | H6: IDV | I6: ASSEP | K6: =DATE(YEAR(K5)-1,12,31) -> 42004 | L6: =DATE(YEAR(K6),12,31) -> 42004 | M6: =YEAR(K6) -> 2014 | N6: 09 | O6: 10 | P6: Benjamins (es) 2 | Q6: 1800 m | T6: 06 | U6: PG2 | V6: =M4 -> 2016
A7: 5 | B7: 1 | C7: 102 | D7: Ec. MISSION | E7: 102 | F7: PAPEETE | G7: TAHITI | H7: IDV | I7: ASSEP | K7: =DATE(YEAR(K6)-2,12,31) -> 41274 | L7: =DATE(YEAR(K7)+1,12,31) -> 41639 | M7: =YEAR(K7)&" - "&YEAR(L7) -> 2012 - 2013 | N7: 11 | O7: 12 | P7: Minimes F/G | Q7: F:2000m/ G:2500m | T7: 07 | U7: BF1 | V7: =M5 -> 2015
A8: 6 | B8: 1 | C8: 109 | D8: Ec. SACRE CŒUR DE TARAVAO | E8: 109 | F8: TARAVAO | G8: TAHITI | H8: IDV | I8: ASSEP | K8: =DATE(YEAR(K7)-2,12,31) -> 40543 | L8: =DATE(YEAR(K8)+1,12,31) -> 40908 | M8: =YEAR(K8)&" - "&YEAR(L8) -> 2010 - 2011 | N8: 13 | O8: 14 | P8: Cadets(tes) | Q8: F:2500m/ G:3000m | T8: 08 | U8: BG1 | V8: =M5 -> 2015
A9: 7 | B9: 1 | C9: 104 | D9: Ec. SAINT HILAIRE | E9: 104 | F9: FAAA | G9: TAHITI | H9: IDV | I9: ASSEP | K9: =DATE(YEAR(K8)-2,12,31) -> 39813 | L9: =DATE(YEAR(K9)+1,12,31) -> 40178 | M9: =YEAR(K9)&" - "&YEAR(L9) -> 2008 - 2009 | N9: 15 | O9: 16 | P9: Juniors F/G | Q9: F:3200m/ G:4200m | T9: 09 | U9: BF2 | V9: =M6 -> 2014
A10: 8 | B10: 1 | C10: 101 | D10: Ec. SAINT JEAN BAPTISTE | E10: 101 | F10: PAPEETE | G10: TAHITI | H10: IDV | I10: ASSEP | K10: =DATE(YEAR(K9)-1,12,31) -> 39447 | L10: et avant | M10: =YEAR(K10)&" - "&L10 -> 2007 - et avant | N10: 17 | O10: 18 | P10: Séniors F/G | Q10: F:3200m/ G:4200m | T10: 10 | U10: BG2 | V10: =M6 -> 2014
A11: 9 | B11: 1 | C11: 108 | D11: Ec. SAINT MICHEL | E11: 108 | F11: PIRAE | G11: TAHITI | H11: IDV | I11: ASSEP | T11: 11 | U11: MF | V11: =YEAR(K7) -> 2012 | W11: =YEAR(L7) -> 2013
A12: 10 | B12: 1 | C12: 105 | D12: Ec. SAINT PAUL | E12: 105 | F12: PAPEETE | G12: TAHITI | H12: IDV | I12: ASSEP | T12: 12 | U12: MG | V12: =YEAR(K7) -> 2012 | W12: =YEAR(L7) -> 2013
A13: 11 | B13: 1 | C13: 106 | D13: Ec. STE THERESE/ST PAUL | E13: 106 | F13: PAPEETE | G13: TAHITI | H13: IDV | I13: ASSEP | T13: 13 | U13: CF | V13: =YEAR(K8) -> 2010 | W13: =YEAR(L8) -> 2011
A14: 12 | B14: 1 | C14: 103 | D14: Ec. TAUNOA | E14: 103 | F14: PAPEETE | G14: TAHITI | H14: IDV | I14: ASSEP | T14: 14 | U14: CG | V14: =YEAR(K8) -> 2010 | W14: =YEAR(L8) -> 2011
A15: 13 | B15: 1 | C15: 111 | D15: Ec. TIARAMA | E15: 111 | F15: PAPEETE | G15: TAHITI | H15: IDV | I15: ASSEP | T15: 15 | U15: JF | V15: =YEAR(K9) -> 2008 | W15: =YEAR(L9) -> 2009
A16: 14 | B16: 1 | C16: 110 | D16: Ec. TONOI (AMJ RAIATEA) | E16: 110 | F16: UTUROA | G16: RAIATEA | H16: ISLV | I16: ASSEP | T16: 16 | U16: JG | V16: =YEAR(K9) -> 2008 | W16: =YEAR(L9) -> 2009
A17: 15 | T17: 17 | U17: SF | V17: =W17-1 -> #VALUE! | W17: =X17-1 -> #VALUE! | X17: =Y17-1 -> #VALUE! | Y17: =Z17-1 -> #VALUE! | Z17: =AA17-1 -> #VALUE! | AA17: =AB17-1 -> #VALUE! | AB17: =AC17-1 -> #VALUE! | AC17: =AD17-1 -> #VALUE! | AD17: =YEAR(L10) -> #VALUE!
A18: 16 | D18: * ECOLES USEP * | T18: 18 | U18: SG | V18: =W18-1 -> #VALUE! | W18: =X18-1 -> #VALUE! | X18: =Y18-1 -> #VALUE! | Y18: =Z18-1 -> #VALUE! | Z18: =AA18-1 -> #VALUE! | AA18: =AB18-1 -> #VALUE! | AB18: =AC18-1 -> #VALUE! | AC18: =AD18-1 -> #VALUE! | AD18: =YEAR(L10) -> #VALUE!
A19: 17
A20: 18 | B20: 1 | C20: 293 | D20: - | E20: 293 | F20: - | G20: TAHAA | H20: ISLV | I20: USEP
A21: 19 | B21: 1 | C21: 351 | D21: C.S.P. ATUONA | E21: 351 | F21: HIVA OA | G21: HIVA OA | H21: MARQUISES | I21: USEP
A22: 20 | B22: 1 | C22: 352 | D22: CSP HAKAHAU | E22: 352 | F22: UA POU | G22: UA POU | H22: MARQUISES | I22: USEP
A23: 21 | B23: 1 | C23: 327 | D23: CSP MAKEMO | E23: 327 | F23: MAKEMO | G23: MAKEMO | H23: TUAMOTU | I23: USEP
A24: 22 | B24: 1 | C24: 215 | D24: Ec. 2 + 2 = 4 | E24: 215 | F24: PUNAAUIA | G24: TAHITI | H24: IDV | I24: USEP
A25: 23 | B25: 1 | C25: 251 | D25: Ec. AFAREAITU | E25: 251 | F25: AFAREAITU | G25: MOOREA | H25: IDV | I25: USEP
A26: 24 | B26: 1 | C26: 377 | D26: Ec. AHE | E26: 377 | F26: AHE | G26: AHE | H26: TUAMOTU | I26: USEP
A27: 25 | B27: 1 | C27: 231 | D27: Ec. AHITITERA | E27: 231 | F27: FAAONE | G27: TAHITI | H27: IDV | I27: USEP
A28: 26 | B28: 1 | C28: 228 | D28: Ec. AHOTOTEINA | E28: 228 | F28: TEAHUPOO | G28: TAHITI | H28: IDV | I28: USEP
A29: 27 | B29: 1 | C29: 317 | D29: Ec. AHUREI | E29: 317 | F29: AHUREI | G29: RAPA | H29: AUSTRALEs | I29: USEP
A30: 28 | B30: 1 | C30: 244 | D30: Ec. AHUTORU | E30: 244 | F30: ARUE | G30: TAHITI | H30: IDV | I30: USEP
A31: 29 | B31: 1 | C31: 332 | D31: Ec. ANAA | E31: 332 | F31: ANAA | G31: ANAA | H31: TUAMOTU | I31: USEP
... A36: 34 | B36: 1 | C36: 272 | D36: Ec. APOOITI | E36: 272 | F36: UTUROA | G36: RAIATEA | H36: ISLV | I36: USEP
A37: 35 | B37: 1 | C37: 338 | D37: Ec. ARATIKA | E37: 338 | H37: TUAMOTU | I37: USEP
A38: 36 | B38: 1 | C38: 245 | D38: Ec. ARUE 2 | E38: 245 | F38: ARUE | G38: TAHITI | H38: IDV | I38: USEP
A39: 37 | B39: 1 | C39: 329 | D39: Ec. ARUTUA | E39: 329 | F39: ARUTUA | G39: ARUTUA | H39: TUAMOTU | I39: USEP
A40: 38 | B40: 1 | C40: 321 | D40: Ec. AVATORU | E40: 321 | F40: RANGIROA-TUAMOTU | G40: RANGIROA | H40: TUAMOTU | I40: USEP
A41: 39 | B41: 1 | C41: 246 | D41: Ec. ERIMA | E41: 246 | F41: ARUE | G41: TAHITI | H41: IDV | I41: USEP
A42: 40 | B42: 1 | C42: 292 | D42: Ec. FAAAHA | E42: 292 | F42: FAAAHA | G42: TAHAA | H42: ISLV | I42: USEP
A43: 41 | B43: 1 | C43: 302 | D43: Ec. FAANUI | E43: 302 | F43: FAANUI | G43: BORA BORA | H43: ISLV | I43: USEP
A44: 42 | B44: 1 | C44: 278 | D44: Ec. FAAROA | E44: 278 | F44: TAPUTAPUATEA | G44: RAIATEA | H44: ISLV | I44: USEP
A45: 43 | B45: 1 | C45: 334 | D45: Ec. FAKAHINA | E45: 334 | F45: FAKAHINA | G45: FAKAHINA | H45: TUAMOTU | I45: USEP
A46: 44 | B46: 1 | C46: 336 | D46: Ec. FAKARAVA | E46: 336 | F46: FAKARAVA | G46: FAKARAVA | H46: TUAMOTU | I46: USEP
A47: 45 | B47: 1 | C47: 210 | D47: Ec. FARAHEI NUI | E47: 210 | F47: FAAA | G47: TAHITI | H47: IDV | I47: USEP
A48: 46 | B48: 1 | C48: 261 | D48: Ec. FARE | E48: 261 | F48: FARE | G48: HUAHINE | H48: ISLV | I48: USEP
A49: 47 | B49: 1 | C49: 241 | D49: Ec. FAREROI | E49: 241 | F49: MAHINA | G49: TAHITI | H49: IDV | I49: USEP
... A75: 73 | B75: 1 | C75: 337 | D75: Ec. NAPUKA | E75: 337 | F75: NAPUKA | G75: NAPUKA | H75: TUAMOTU | I75: USEP
A76: 74 | B76: 1 | C76: 339 | D76: Ec; NIAU | E76: 339 | H76: TUAMOTU | I76: USEP
A77: 75 | B77: 1 | C77: 376 | D77: Ec. NUKUTAVAKE | E77: 376 | F77: NUKUTAVAKE | G77: NUKUTAVAKE | H77: TUAMOTU | I77: USEP
A78: 76 | B78: 1 | C78: 243 | D78: Ec. NUUTERE | E78: 243 | F78: MAHINA | G78: TAHITI | H78: IDV | I78: USEP
A79: 77 | B79: 1 | C79: 233 | D79: Ec. OHITEITEI | E79: 233 | F79: TARAVAO | G79: TAHITI | H79: IDV | I79: USEP
A80: 78 | B80: 1 | C80: 279 | D80: Ec. OPOA | E80: 279 | F80: TAPUTAPUATEA | G80: RAIATEA | H80: ISLV | I80: USEP
A81: 79 | B81: 1 | C81: 208 | D81: Ec. PAMATAI | E81: 208 | F81: FAAA | G81: TAHITI | H81: IDV | I81: USEP
A82: 80 | B82: 1 | C82: 203 | D82: Ec. PAOFAI | E82: 203 | F82: PAPEETE | G82: TAHITI | H82: IDV | I82: USEP
A83: 81 | B83: 1 | C83: 255 | D83: Ec. PAOPAO | E83: 255 | F83: PAOPAO | G83: MOOREA | H83: IDV | I83: USEP
A84: 82 | B84: 1 | C84: 254 | D84: Ec. PAPETOAI | E84: 254 | F84: PAPETOAI | G84: MOOREA | H84: IDV | I84: USEP
A85: 83 | B85: 1 | C85: 266 | D85: Ec. PAREA | E85: 266 | F85: PAREA | G85: HUAHINE | H85: ISLV | I85: USEP
A86: 84 | B86: 1 | C86: 295 | D86: Ec. PATIO | E86: 295 | F86: PATIO | G86: TAHAA | H86: ISLV | I86: USEP
A87: 85 | B87: 1 | C87: 209 | D87: Ec. PIAFAU | E87: 209 | F87: FAAA | G87: TAHITI | H87: IDV | I87: USEP
A88: 86 | B88: 1 | C88: 204 | D88: Ec. PINA'I | E88: 204 | F88: PAPEETE | G88: TAHITI | H88: IDV | I88: USEP
... A118: 116 | B118: 1 | C118: 229 | D118: Ec. TOEREFAU | E118: 229 | F118: TOAHOTU | G118: TAHITI | H118: IDV | I118: USEP
A119: 117 | B119: 1 | C119: 328 | D119: Ec. TUREIA | E119: 328 | F119: TUREIA | G119: TUREIA | H119: TUAMOTU | I119: USEP | J119: 2024
A120: 118 | B120: 1 | C120: 250 | D120: Ec. TUTERAI TANE | E120: 250 | F120: PIRAE | G120: TAHITI | H120: IDV | I120: USEP | J120: 2024
A121: 119 | B121: 1 | C121: 354 | D121: Ec. UA HUKA | E121: 354 | F121: UA HUKA | G121: UA HUKA | H121: MARQUISES | I121: USEP
A122: 120 | B122: 1 | C122: 375 | D122: Ec. VAHITAHI | E122: 375 | F122: VAHITAHI | G122: VAHITAHI | H122: TUAMOTU | I122: USEP
A123: 121 | B123: 1 | C123: 275 | D123: Ec. VAIAAU | E123: 275 | F123: TUMARAA | G123: RAIATEA | H123: ISLV | I123: USEP
A124: 122 | B124: 1 | C124: 212 | D124: Ec. VAIAHA | E124: 212 | F124: FAAA | G124: TAHITI | H124: IDV | I124: USEP
A125: 123 | B125: 1 | C125: 220 | D125: Ec. VAIATU | E125: 220 | F125: PAEA | G125: TAHITI | H125: IDV | I125: USEP
A126: 124 | B126: 1 | C126: 271 | D126: Ec. VAITAHE | E126: 271 | F126: UTUROA | G126: RAIATEA | H126: ISLV | I126: USEP | J126: 2025
A127: 125 | B127: 1 | C127: 298 | D127: Ec. VAITOARE | E127: 298 | F127: VAITOARE | G127: TAHAA | H127: ISLV | I127: USEP
A128: 126 | B128: 1 | C128: 248 | D128: Ec. VAL FAUATUA | E128: 248 | F128: PIRAE | G128: TAHITI | H128: IDV | I128: USEP
A129: 127 | B129: 1 | C129: 316 | D129: GS AMARU | E129: 316 | F129: AMARU | G129: RIMATARA | H129: AUSTRALEs | I129: USEP
A130: 128 | B130: 1 | C130: 277 | D130: GS AVERA/FAAROA | E130: 277 | F130: TAPUTAPUATEA | G130: RAIATEA | H130: ISLV | I130: USEP
A131: 129 | B131: 1 | C131: 201 | D131: GS HITI VAI NUI | E131: 201 | F131: PAPEETE | G131: TAHITI | H131: IDV | I131: USEP
A132: 130 | B132: 1 | C132: 237 | D132: GS MAMU | E132: 237 | F132: TIAREI | G132: TAHITI | H132: IDV | I132: USEP
A133: 131 | B133: 1 | C133: 217 | D133: GS MARAA | E133: 217 | F133: PAEA | G133: TAHITI | H133: IDV | I133: USEP
A134: 132 | B134: 1 | C134: 238 | D134: GS MOENOA | E134: 238 | F134: HITIAA | G134: TAHITI | H134: IDV | I134: USEP
A135: 133 | B135: 1 | C135: 313 | D135: GS MOERAI | E135: 313 | F135: MOERAI | G135: RURUTU | H135: AUSTRALEs | I135: USEP
A136: 134 | B136: 1 | C136: 227 | D136: GS NUUTAFARATEA | E136: 227 | F136: TEVA I UTA | G136: TAHITI | H136: IDV | I136: USEP
A137: 135 | B137: 1 | C137: 218 | D137: GS PAPEHUE | E137: 218 | F137: PAEA | G137: TAHITI | H137: IDV | I137: USEP
A138: 136 | B138: 1 | C138: 230 | D138: GS POTII VAIRAO | E138: 230 | F138: VAIRAO | G138: TAHITI | H138: IDV | I138: USEP
... A141: 139 | B141: 1 | C141: 273 | D141: GS TEVAITOA/TEHURUI | E141: 273 | F141: TUMARAA | G141: RAIATEA | H141: ISLV | I141: USEP
A142: 140
A143: 141 | D143: *CJA *
A144: 142
A145: 143 | B145: 2 | C145: 725 | D145: CJA ATUONA | E145: 725 | F145: HIVA OA | G145: HIVA OA | H145: MARQUISES | I145: UCS-CJA
A146: 144 | B146: 2 | C146: 712 | D146: CJA ARUE | E146: 712 | F146: ARUE | G146: TAHITI | H146: IDV | I146: UCS-CJA
A147: 145 | B147: 2 | C147: 719 | D147: CJA BORABORA | E147: 719 | F147: BORA BORA | G147: BORA BORA | H147: ISLV | I147: UCS-CJA
A148: 146 | B148: 2 | C148: 702 | D148: CJA FAAA Oremu | E148: 702 | F148: OREMU | G148: TAHITI | H148: IDV | I148: UCS-CJA
A149: 147 | B149: 2 | C149: 710 | D149: CJA HITIAA O TE RA | E149: 710 | F149: HITIAA O TE RA | G149: TAHITI | H149: IDV | I149: UCS-CJA
A150: 148 | B150: 2 | C150: 722 | D150: CJA HIVA-OA | E150: 722 | F150: HIVA OA | G150: HIVA OA | H150: MARQUISES | I150: UCS-CJA
A151: 149 | B151: 2 | C151: 715 | D151: CJA HUAHINE | E151: 715 | F151: HUAHINE | G151: HUAHINE | H151: ISLV | I151: UCS-CJA
A152: 150 | B152: 2 | C152: 711 | D152: CJA MAHINA | E152: 711 | F152: MAHINA | G152: TAHITI | H152: IDV | I152: UCS-CJA
A153: 151 | B153: 2 | C153: 714 | D153: CJA MOOREA | E153: 714 | F153: MOOREA | G153: MOOREA | H153: IDV | I153: UCS-CJA
A154: 152 | B154: 2 | C154: 704 | D154: CJA PAEA | E154: 704 | F154: PAEA | G154: TAHITI | H154: IDV | I154: UCS-CJA
A155: 153 | B155: 2 | C155: 706 | D155: CJA PAPARA Pte Erich | E155: 706 | F155: PAPARA | G155: TAHITI | H155: IDV | I155: UCS-CJA
A156: 154 | B156: 2 | C156: 705 | D156: CJA PAPARA Taharuu | E156: 705 | F156: PAPARA | G156: TAHITI | H156: IDV | I156: UCS-CJA
... A170: 168 | B170: 2 | C170: 708 | D170: CJA VAIRAO | E170: 708 | F170: VAIRAO | G170: TAHITI | H170: IDV | I170: UCS-CJA
A171: 169
A172: 170 | D172: * COLLEGES
A173: 171
...
