Workbook

Sheet FEUILLE d'engagement
K2: CSSU ENGAGEMENTS CROSS 2026 | R2: =VLOOKUP(M5,'Ets et CODE'!E2:I260,5,FALSE()) -> Fédération
I3: Consigne 1 | L3: DATE LIMITE D'INSCRIPTION : LUNDI 10 NOVEMBRE 2026 (délai de rigueur)
I4: Consigne 2 | L4: Etablissement : | M4: CHOISISSEZ VOTRE ETABLISSEMENT | S4: CLIQUER DANS LA CELLULE BLEUE ET SUR LA FLÈCHE
I5: A LIRE | M5: =VLOOKUP(M4,'Ets et CODE'!D2:F260,2,FALSE()) -> - Merci -
I6: IMPORTANT | L6: Responsable (s) :
R7: =COUNTA(L9:L16,L25:L32,L41:L48,L57:L64,L73:L80,L89:L96,L105:L112,L121:L128)&" Filles - "&COUNTA(L17:L24,L33:L40,L49:L56,L65:L72,L81:L88,L97:L104,L113:L120,L129:L136)&" Gars - Soit un Total de : "&COUNTA(L9:L136) -> 0 Filles - 0 Gars - Soit un Total de : 0
A8: Cat. | B8: Cde Ets | C8: Ordre | K8: N° ID | O8: Sx | P8: Cat. | Q8: Ets | R8: ASS | S8: Licence pour USSP | AM8: =COUNTA(L9:L16,L25:L32,L41:L48,L57:L64,L73:L80,L89:L96,L105:L112,L121:L128)&" F - "&COUNTA(L17:L24,L33:L40,L49:L56,L65:L72,L81:L88,L97:L104,L113:L120,L129:L136)&" G" -> 0 F - 0 G
A9: =IF(N9="","",IF(G9=1,E9,"Erreur")) | B9: =IF(N9="","",IF(G9=1,$M$5,"date")) | C9: =IF(N9="","",IF(G9=1,D9,"de")) | D9: 1 | E9: 03 | F9: F | G9: =IF(OR(VLOOKUP(E9,cod_cat,3,FALSE())=YEAR(N9),VLOOKUP(E9,cod_cat,4,FALSE())=YEAR(N9)),1,0) -> 0 | I9: =IFERROR(VLOOKUP(E9,cod_cat,3,FALSE()),"-") -> 2017 | J9: POUSSINES - PF1 | K9: =IF(N9="","",IF(G9=1,A9&" "&B9&" "&C9,"Naissance")) | O9: =IF(L9="","",F9) | P9: =IF(B9<>$M$5,"",VLOOKUP(A9,cod_cat,2,FALSE())) | Q9: =IF(B9<>$M$5,"",$M$4) | R9: =IF(B9<>$M$5,"",$R$2) | U9: =M5 -> - Merci - | V9: =M4 -> CHOISISSEZ VOTRE ETABLISSEMENT | W9: =COUNTA(_03pf1) -> 0 | X9: =COUNTA(_04pg1) -> 0 | Y9: =COUNTA(_05pf2) -> 0 | Z9: =COUNTA(_06pg2) -> 0 | AA9: =COUNTA(_07bf1) -> 0 | AB9: =COUNTA(_08bg1) -> 0 | AC9: =COUNTA(_09bf2) -> 0 | AD9: =COUNTA(_10bg2) -> 0 | AE9: =COUNTA(_11mf) -> 0 | AF9: =COUNTA(_12mg) -> 0 | AG9: =COUNTA(_13cf) -> 0 | AH9: =COUNTA(_14cg) -> 0 | AI9: =COUNTA(_15jf) -> 0 | AJ9: =COUNTA(_16jg) -> 0 | AK9: =COUNTA(_17sf) -> 0 | AL9: =COUNTA(_18sg) -> 0 | AM9: =SUM(W9:AL9) -> 0 | AN9: =VLOOKUP(M4,BASE,4,FALSE()) -> #N/A | AO9: =VLOOKUP(M4,BASE,5,FALSE()) -> #N/A | AP9: =R2 -> Fédération
A10: =IF(N10="","",IF(G10=1,E10,"Erreur")) | B10: =IF(N10="","",IF(G10=1,$M$5,"date")) | C10: =IF(N10="","",IF(G10=1,D10,"de")) | D10: 2 | E10: 03 | F10: F | G10: =IF(OR(VLOOKUP(E10,cod_cat,3,FALSE())=YEAR(N10),VLOOKUP(E10,cod_cat,4,FALSE())=YEAR(N10)),1,0) -> 0 | K10: =IF(N10="","",IF(G10=1,A10&" "&B10&" "&C10,"Naissance")) | O10: =IF(L10="","",F10) | P10: =IF(B10<>$M$5,"",VLOOKUP(A10,cod_cat,2,FALSE())) | Q10: =IF(B10<>$M$5,"",$M$4) | R10: =IF(B10<>$M$5,"",$R$2) | U10: Recap ASS | W10: PF1 | X10: PG1 | Y10: PF2 | Z10: PG2 | AA10: BF1 | AB10: BG1 | AC10: BF2 | AD10: BG2 | AE10: MF | AF10: MG | AG10: CF | AH10: CG | AI10: JF | AJ10: JG | AK10: SF | AL10: SG | AM10: Total | AN10: Ile | AO10: Archipel | AP10: ASS
A11: =IF(N11="","",IF(G11=1,E11,"Erreur")) | B11: =IF(N11="","",IF(G11=1,$M$5,"date")) | C11: =IF(N11="","",IF(G11=1,D11,"de")) | D11: 3 | E11: 03 | F11: F | G11: =IF(OR(VLOOKUP(E11,cod_cat,3,FALSE())=YEAR(N11),VLOOKUP(E11,cod_cat,4,FALSE())=YEAR(N11)),1,0) -> 0 | K11: =IF(N11="","",IF(G11=1,A11&" "&B11&" "&C11,"Naissance")) | O11: =IF(L11="","",F11) | P11: =IF(B11<>$M$5,"",VLOOKUP(A11,cod_cat,2,FALSE())) | Q11: =IF(B11<>$M$5,"",$M$4) | R11: =IF(B11<>$M$5,"",$R$2) | W11: 03 | X11: 04 | Y11: 05 | Z11: 06 | AA11: 07 | AB11: 08 | AC11: 09 | AD11: 10 | AE11: 11 | AF11: 12 | AG11: 13 | AH11: 14 | AI11: 15 | AJ11: 16 | AK11: 17 | AL11: 18
A12: =IF(N12="","",IF(G12=1,E12,"Erreur")) | B12: =IF(N12="","",IF(G12=1,$M$5,"date")) | C12: =IF(N12="","",IF(G12=1,D12,"de")) | D12: 4 | E12: 03 | F12: F | G12: =IF(OR(VLOOKUP(E12,cod_cat,3,FALSE())=YEAR(N12),VLOOKUP(E12,cod_cat,4,FALSE())=YEAR(N12)),1,0) -> 0 | K12: =IF(N12="","",IF(G12=1,A12&" "&B12&" "&C12,"Naissance")) | O12: =IF(L12="","",F12) | P12: =IF(B12<>$M$5,"",VLOOKUP(A12,cod_cat,2,FALSE())) | Q12: =IF(B12<>$M$5,"",$M$4) | R12: =IF(B12<>$M$5,"",$R$2) | W12: ='Ets et CODE'!M3 -> 2017 | Y12: ='Ets et CODE'!M4 -> 2016 | AA12: ='Ets et CODE'!M5 -> 2015 | AC12: ='Ets et CODE'!M6 -> 2014 | AE12: ='Ets et CODE'!M7 -> 2012 - 2013 | AG12: ='Ets et CODE'!M8 -> 2010 - 2011 | AI12: ='Ets et CODE'!M9 -> 2008 - 2009 | AK12: =I121 -> -
A13: =IF(N13="","",IF(G13=1,E13,"Erreur")) | B13: =IF(N13="","",IF(G13=1,$M$5,"date")) | C13: =IF(N13="","",IF(G13=1,D13,"de")) | D13: 5 | E13: 03 | F13: F | G13: =IF(OR(VLOOKUP(E13,cod_cat,3,FALSE())=YEAR(N13),VLOOKUP(E13,cod_cat,4,FALSE())=YEAR(N13)),1,0) -> 0 | K13: =IF(N13="","",IF(G13=1,A13&" "&B13&" "&C13,"Naissance")) | O13: =IF(L13="","",F13) | P13: =IF(B13<>$M$5,"",VLOOKUP(A13,cod_cat,2,FALSE())) | Q13: =IF(B13<>$M$5,"",$M$4) | R13: =IF(B13<>$M$5,"",$R$2)
A14: =IF(N14="","",IF(G14=1,E14,"Erreur")) | B14: =IF(N14="","",IF(G14=1,$M$5,"date")) | C14: =IF(N14="","",IF(G14=1,D14,"de")) | D14: 6 | E14: 03 | F14: F | G14: =IF(OR(VLOOKUP(E14,cod_cat,3,FALSE())=YEAR(N14),VLOOKUP(E14,cod_cat,4,FALSE())=YEAR(N14)),1,0) -> 0 | K14: =IF(N14="","",IF(G14=1,A14&" "&B14&" "&C14,"Naissance")) | O14: =IF(L14="","",F14) | P14: =IF(B14<>$M$5,"",VLOOKUP(A14,cod_cat,2,FALSE())) | Q14: =IF(B14<>$M$5,"",$M$4) | R14: =IF(B14<>$M$5,"",$R$2)
A15: =IF(N15="","",IF(G15=1,E15,"Erreur")) | B15: =IF(N15="","",IF(G15=1,$M$5,"date")) | C15: =IF(N15="","",IF(G15=1,D15,"de")) | D15: 7 | E15: 03 | F15: F | G15: =IF(OR(VLOOKUP(E15,cod_cat,3,FALSE())=YEAR(N15),VLOOKUP(E15,cod_cat,4,FALSE())=YEAR(N15)),1,0) -> 0 | K15: N | O15: =IF(L15="","",F15) | P15: =IF(B15<>$M$5,"",VLOOKUP(A15,cod_cat,2,FALSE())) | Q15: =IF(B15<>$M$5,"",$M$4) | R15: =IF(B15<>$M$5,"",$R$2)
A16: =IF(N16="","",IF(G16=1,E16,"Erreur")) | B16: =IF(N16="","",IF(G16=1,$M$5,"date")) | C16: =IF(N16="","",IF(G16=1,D16,"de")) | D16: 8 | E16: 03 | F16: F | G16: =IF(OR(VLOOKUP(E16,cod_cat,3,FALSE())=YEAR(N16),VLOOKUP(E16,cod_cat,4,FALSE())=YEAR(N16)),1,0) -> 0 | K16: N | O16: =IF(L16="","",F16) | P16: =IF(B16<>$M$5,"",VLOOKUP(A16,cod_cat,2,FALSE())) | Q16: =IF(B16<>$M$5,"",$M$4) | R16: =IF(B16<>$M$5,"",$R$2)
A17: =IF(N17="","",IF(G17=1,E17,"Erreur")) | B17: =IF(N17="","",IF(G17=1,$M$5,"date")) | C17: =IF(N17="","",IF(G17=1,D17,"de")) | D17: 1 | E17: 04 | F17: G | G17: =IF(OR(VLOOKUP(E17,cod_cat,3,FALSE())=YEAR(N17),VLOOKUP(E17,cod_cat,4,FALSE())=YEAR(N17)),1,0) -> 0 | J17: POUSSINES - PG1 | K17: =IF(N17="","",IF(G17=1,A17&" "&B17&" "&C17,"Naissance")) | O17: =IF(L17="","",F17) | P17: =IF(B17<>$M$5,"",VLOOKUP(A17,cod_cat,2,FALSE())) | Q17: =IF(B17<>$M$5,"",$M$4) | R17: =IF(B17<>$M$5,"",$R$2) | U17: 1-Merci de lire les CONSIGNES et REGLEMENT( CHANGEMENTS)
A18: =IF(N18="","",IF(G18=1,E18,"Erreur")) | B18: =IF(N18="","",IF(G18=1,$M$5,"date")) | C18: =IF(N18="","",IF(G18=1,D18,"de")) | D18: 2 | E18: 04 | F18: G | G18: =IF(OR(VLOOKUP(E18,cod_cat,3,FALSE())=YEAR(N18),VLOOKUP(E18,cod_cat,4,FALSE())=YEAR(N18)),1,0) -> 0 | K18: =IF(N18="","",IF(G18=1,A18&" "&B18&" "&C18,"Naissance")) | O18: =IF(L18="","",F18) | P18: =IF(B18<>$M$5,"",VLOOKUP(A18,cod_cat,2,FALSE())) | Q18: =IF(B18<>$M$5,"",$M$4) | R18: =IF(B18<>$M$5,"",$R$2) | U18: 2- PF à BG uniquement 6 engagés. LE RESTE TOUJOURS 8
A19: =IF(N19="","",IF(G19=1,E19,"Erreur")) | B19: =IF(N19="","",IF(G19=1,$M$5,"date")) | C19: =IF(N19="","",IF(G19=1,D19,"de")) | D19: 3 | E19: 04 | F19: G | G19: =IF(OR(VLOOKUP(E19,cod_cat,3,FALSE())=YEAR(N19),VLOOKUP(E19,cod_cat,4,FALSE())=YEAR(N19)),1,0) -> 0 | K19: =IF(N19="","",IF(G19=1,A19&" "&B19&" "&C19,"Naissance")) | O19: =IF(L19="","",F19) | P19: =IF(B19<>$M$5,"",VLOOKUP(A19,cod_cat,2,FALSE())) | Q19: =IF(B19<>$M$5,"",$M$4) | R19: =IF(B19<>$M$5,"",$R$2) | U19: 3-RÉSULTATS : 3 PREMIERS OFFICIELS
A20: =IF(N20="","",IF(G20=1,E20,"Erreur")) | B20: =IF(N20="","",IF(G20=1,$M$5,"date")) | C20: =IF(N20="","",IF(G20=1,D20,"de")) | D20: 4 | E20: 04 | F20: G | G20: =IF(OR(VLOOKUP(E20,cod_cat,3,FALSE())=YEAR(N20),VLOOKUP(E20,cod_cat,4,FALSE())=YEAR(N20)),1,0) -> 0 | K20: =IF(N20="","",IF(G20=1,A20&" "&B20&" "&C20,"Naissance")) | O20: =IF(L20="","",F20) | P20: =IF(B20<>$M$5,"",VLOOKUP(A20,cod_cat,2,FALSE())) | Q20: =IF(B20<>$M$5,"",$M$4) | R20: =IF(B20<>$M$5,"",$R$2) | U20: 3-RÉSULTATS DES AUTRES INDIVIDUELS (LES) : OFFICIEUX LE JOUR DU CROSS. Mise à jour dans la semaine qui suit.
A21: =IF(N21="","",IF(G21=1,E21,"Erreur")) | B21: =IF(N21="","",IF(G21=1,$M$5,"date")) | C21: =IF(N21="","",IF(G21=1,D21,"de")) | D21: 5 | E21: 04 | F21: G | G21: =IF(OR(VLOOKUP(E21,cod_cat,3,FALSE())=YEAR(N21),VLOOKUP(E21,cod_cat,4,FALSE())=YEAR(N21)),1,0) -> 0 | K21: =IF(N21="","",IF(G21=1,A21&" "&B21&" "&C21,"Naissance")) | O21: =IF(L21="","",F21) | P21: =IF(B21<>$M$5,"",VLOOKUP(A21,cod_cat,2,FALSE())) | Q21: =IF(B21<>$M$5,"",$M$4) | R21: =IF(B21<>$M$5,"",$R$2)
A22: =IF(N22="","",IF(G22=1,E22,"Erreur")) | B22: =IF(N22="","",IF(G22=1,$M$5,"date")) | C22: =IF(N22="","",IF(G22=1,D22,"de")) | D22: 6 | E22: 04 | F22: G | G22: =IF(OR(VLOOKUP(E22,cod_cat,3,FALSE())=YEAR(N22),VLOOKUP(E22,cod_cat,4,FALSE())=YEAR(N22)),1,0) -> 0 | K22: =IF(N22="","",IF(G22=1,A22&" "&B22&" "&C22,"Naissance")) | O22: =IF(L22="","",F22) | P22: =IF(B22<>$M$5,"",VLOOKUP(A22,cod_cat,2,FALSE())) | Q22: =IF(B22<>$M$5,"",$M$4) | R22: =IF(B22<>$M$5,"",$R$2)
A23: =IF(N23="","",IF(G23=1,E23,"Erreur")) | B23: =IF(N23="","",IF(G23=1,$M$5,"date")) | C23: =IF(N23="","",IF(G23=1,D23,"de")) | D23: 7 | E23: 04 | F23: G | G23: =IF(OR(VLOOKUP(E23,cod_cat,3,FALSE())=YEAR(N23),VLOOKUP(E23,cod_cat,4,FALSE())=YEAR(N23)),1,0) -> 0 | K23: N | O23: =IF(L23="","",F23) | P23: =IF(B23<>$M$5,"",VLOOKUP(A23,cod_cat,2,FALSE())) | Q23: =IF(B23<>$M$5,"",$M$4) | R23: =IF(B23<>$M$5,"",$R$2)
A24: =IF(N24="","",IF(G24=1,E24,"Erreur")) | B24: =IF(N24="","",IF(G24=1,$M$5,"date")) | C24: =IF(N24="","",IF(G24=1,D24,"de")) | D24: 8 | E24: 04 | F24: G | G24: =IF(OR(VLOOKUP(E24,cod_cat,3,FALSE())=YEAR(N24),VLOOKUP(E24,cod_cat,4,FALSE())=YEAR(N24)),1,0) -> 0 | K24: N | O24: =IF(L24="","",F24) | P24: =IF(B24<>$M$5,"",VLOOKUP(A24,cod_cat,2,FALSE())) | Q24: =IF(B24<>$M$5,"",$M$4) | R24: =IF(B24<>$M$5,"",$R$2)
A25: =IF(N25="","",IF(G25=1,E25,"Erreur")) | B25: =IF(N25="","",IF(G25=1,$M$5,"date")) | C25: =IF(N25="","",IF(G25=1,D25,"de")) | D25: 1 | E25: 05 | F25: F | G25: =IF(OR(VLOOKUP(E25,cod_cat,3,FALSE())=YEAR(N25),VLOOKUP(E25,cod_cat,4,FALSE())=YEAR(N25)),1,0) -> 0 | I25: =IFERROR(VLOOKUP(E25,cod_cat,3,FALSE()),"-") -> 2016 | J25: POUSSINES - PF2 | K25: =IF(N25="","",IF(G25=1,A25&" "&B25&" "&C25,"Naissance")) | O25: =IF(L25="","",F25) | P25: =IF(B25<>$M$5,"",VLOOKUP(A25,cod_cat,2,FALSE())) | Q25: =IF(B25<>$M$5,"",$M$4) | R25: =IF(B25<>$M$5,"",$R$2)
A26: =IF(N26="","",IF(G26=1,E26,"Erreur")) | B26: =IF(N26="","",IF(G26=1,$M$5,"date")) | C26: =IF(N26="","",IF(G26=1,D26,"de")) | D26: 2 | E26: 05 | F26: F | G26: =IF(OR(VLOOKUP(E26,cod_cat,3,FALSE())=YEAR(N26),VLOOKUP(E26,cod_cat,4,FALSE())=YEAR(N26)),1,0) -> 0 | K26: =IF(N26="","",IF(G26=1,A26&" "&B26&" "&C26,"Naissance")) | O26: =IF(L26="","",F26) | P26: =IF(B26<>$M$5,"",VLOOKUP(A26,cod_cat,2,FALSE())) | Q26: =IF(B26<>$M$5,"",$M$4) | R26: =IF(B26<>$M$5,"",$R$2)
A27: =IF(N27="","",IF(G27=1,E27,"Erreur")) | B27: =IF(N27="","",IF(G27=1,$M$5,"date")) | C27: =IF(N27="","",IF(G27=1,D27,"de")) | D27: 3 | E27: 05 | F27: F | G27: =IF(OR(VLOOKUP(E27,cod_cat,3,FALSE())=YEAR(N27),VLOOKUP(E27,cod_cat,4,FALSE())=YEAR(N27)),1,0) -> 0 | K27: =IF(N27="","",IF(G27=1,A27&" "&B27&" "&C27,"Naissance")) | O27: =IF(L27="","",F27) | P27: =IF(B27<>$M$5,"",VLOOKUP(A27,cod_cat,2,FALSE())) | Q27: =IF(B27<>$M$5,"",$M$4) | R27: =IF(B27<>$M$5,"",$R$2)
A28: =IF(N28="","",IF(G28=1,E28,"Erreur")) | B28: =IF(N28="","",IF(G28=1,$M$5,"date")) | C28: =IF(N28="","",IF(G28=1,D28,"de")) | D28: 4 | E28: 05 | F28: F | G28: =IF(OR(VLOOKUP(E28,cod_cat,3,FALSE())=YEAR(N28),VLOOKUP(E28,cod_cat,4,FALSE())=YEAR(N28)),1,0) -> 0 | K28: =IF(N28="","",IF(G28=1,A28&" "&B28&" "&C28,"Naissance")) | O28: =IF(L28="","",F28) | P28: =IF(B28<>$M$5,"",VLOOKUP(A28,cod_cat,2,FALSE())) | Q28: =IF(B28<>$M$5,"",$M$4) | R28: =IF(B28<>$M$5,"",$R$2)
A29: =IF(N29="","",IF(G29=1,E29,"Erreur")) | B29: =IF(N29="","",IF(G29=1,$M$5,"date")) | C29: =IF(N29="","",IF(G29=1,D29,"de")) | D29: 5 | E29: 05 | F29: F | G29: =IF(OR(VLOOKUP(E29,cod_cat,3,FALSE())=YEAR(N29),VLOOKUP(E29,cod_cat,4,FALSE())=YEAR(N29)),1,0) -> 0 | K29: =IF(N29="","",IF(G29=1,A29&" "&B29&" "&C29,"Naissance")) | O29: =IF(L29="","",F29) | P29: =IF(B29<>$M$5,"",VLOOKUP(A29,cod_cat,2,FALSE())) | Q29: =IF(B29<>$M$5,"",$M$4) | R29: =IF(B29<>$M$5,"",$R$2)
A30: =IF(N30="","",IF(G30=1,E30,"Erreur")) | B30: =IF(N30="","",IF(G30=1,$M$5,"date")) | C30: =IF(N30="","",IF(G30=1,D30,"de")) | D30: 6 | E30: 05 | F30: F | G30: =IF(OR(VLOOKUP(E30,cod_cat,3,FALSE())=YEAR(N30),VLOOKUP(E30,cod_cat,4,FALSE())=YEAR(N30)),1,0) -> 0 | K30: =IF(N30="","",IF(G30=1,A30&" "&B30&" "&C30,"Naissance")) | O30: =IF(L30="","",F30) | P30: =IF(B30<>$M$5,"",VLOOKUP(A30,cod_cat,2,FALSE())) | Q30: =IF(B30<>$M$5,"",$M$4) | R30: =IF(B30<>$M$5,"",$R$2)
A31: =IF(N31="","",IF(G31=1,E31,"Erreur")) | B31: =IF(N31="","",IF(G31=1,$M$5,"date")) | C31: =IF(N31="","",IF(G31=1,D31,"de")) | D31: 7 | E31: 05 | F31: F | G31: =IF(OR(VLOOKUP(E31,cod_cat,3,FALSE())=YEAR(N31),VLOOKUP(E31,cod_cat,4,FALSE())=YEAR(N31)),1,0) -> 0 | K31: N | O31: =IF(L31="","",F31) | P31: =IF(B31<>$M$5,"",VLOOKUP(A31,cod_cat,2,FALSE())) | Q31: =IF(B31<>$M$5,"",$M$4) | R31: =IF(B31<>$M$5,"",$R$2)
A32: =IF(N32="","",IF(G32=1,E32,"Erreur")) | B32: =IF(N32="","",IF(G32=1,$M$5,"date")) | C32: =IF(N32="","",IF(G32=1,D32,"de")) | D32: 8 | E32: 05 | F32: F | G32: =IF(OR(VLOOKUP(E32,cod_cat,3,FALSE())=YEAR(N32),VLOOKUP(E32,cod_cat,4,FALSE())=YEAR(N32)),1,0) -> 0 | K32: N | O32: =IF(L32="","",F32) | P32: =IF(B32<>$M$5,"",VLOOKUP(A32,cod_cat,2,FALSE())) | Q32: =IF(B32<>$M$5,"",$M$4) | R32: =IF(B32<>$M$5,"",$R$2)
A33: =IF(N33="","",IF(G33=1,E33,"Erreur")) | B33: =IF(N33="","",IF(G33=1,$M$5,"date")) | C33: =IF(N33="","",IF(G33=1,D33,"de")) | D33: 1 | E33: 06 | F33: G | G33: =IF(OR(VLOOKUP(E33,cod_cat,3,FALSE())=YEAR(N33),VLOOKUP(E33,cod_cat,4,FALSE())=YEAR(N33)),1,0) -> 0 | J33: POUSSINES - PG2 | K33: =IF(N33="","",IF(G33=1,A33&" "&B33&" "&C33,"Naissance")) | O33: =IF(L33="","",F33) | P33: =IF(B33<>$M$5,"",VLOOKUP(A33,cod_cat,2,FALSE())) | Q33: =IF(B33<>$M$5,"",$M$4) | R33: =IF(B33<>$M$5,"",$R$2)
A34: =IF(N34="","",IF(G34=1,E34,"Erreur")) | B34: =IF(N34="","",IF(G34=1,$M$5,"date")) | C34: =IF(N34="","",IF(G34=1,D34,"de")) | D34: 2 | E34: 06 | F34: G | G34: =IF(OR(VLOOKUP(E34,cod_cat,3,FALSE())=YEAR(N34),VLOOKUP(E34,cod_cat,4,FALSE())=YEAR(N34)),1,0) -> 0 | K34: =IF(N34="","",IF(G34=1,A34&" "&B34&" "&C34,"Naissance")) | O34: =IF(L34="","",F34) | P34: =IF(B34<>$M$5,"",VLOOKUP(A34,cod_cat,2,FALSE())) | Q34: =IF(B34<>$M$5,"",$M$4) | R34: =IF(B34<>$M$5,"",$R$2)
A35: =IF(N35="","",IF(G35=1,E35,"Erreur")) | B35: =IF(N35="","",IF(G35=1,$M$5,"date")) | C35: =IF(N35="","",IF(G35=1,D35,"de")) | D35: 3 | E35: 06 | F35: G | G35: =IF(OR(VLOOKUP(E35,cod_cat,3,FALSE())=YEAR(N35),VLOOKUP(E35,cod_cat,4,FALSE())=YEAR(N35)),1,0) -> 0 | K35: =IF(N35="","",IF(G35=1,A35&" "&B35&" "&C35,"Naissance")) | O35: =IF(L35="","",F35) | P35: =IF(B35<>$M$5,"",VLOOKUP(A35,cod_cat,2,FALSE())) | Q35: =IF(B35<>$M$5,"",$M$4) | R35: =IF(B35<>$M$5,"",$R$2)
A36: =IF(N36="","",IF(G36=1,E36,"Erreur")) | B36: =IF(N36="","",IF(G36=1,$M$5,"date")) | C36: =IF(N36="","",IF(G36=1,D36,"de")) | D36: 4 | E36: 06 | F36: G | G36: =IF(OR(VLOOKUP(E36,cod_cat,3,FALSE())=YEAR(N36),VLOOKUP(E36,cod_cat,4,FALSE())=YEAR(N36)),1,0) -> 0 | K36: =IF(N36="","",IF(G36=1,A36&" "&B36&" "&C36,"Naissance")) | O36: =IF(L36="","",F36) | P36: =IF(B36<>$M$5,"",VLOOKUP(A36,cod_cat,2,FALSE())) | Q36: =IF(B36<>$M$5,"",$M$4) | R36: =IF(B36<>$M$5,"",$R$2)
A37: =IF(N37="","",IF(G37=1,E37,"Erreur")) | B37: =IF(N37="","",IF(G37=1,$M$5,"date")) | C37: =IF(N37="","",IF(G37=1,D37,"de")) | D37: 5 | E37: 06 | F37: G | G37: =IF(OR(VLOOKUP(E37,cod_cat,3,FALSE())=YEAR(N37),VLOOKUP(E37,cod_cat,4,FALSE())=YEAR(N37)),1,0) -> 0 | K37: =IF(N37="","",IF(G37=1,A37&" "&B37&" "&C37,"Naissance")) | O37: =IF(L37="","",F37) | P37: =IF(B37<>$M$5,"",VLOOKUP(A37,cod_cat,2,FALSE())) | Q37: =IF(B37<>$M$5,"",$M$4) | R37: =IF(B37<>$M$5,"",$R$2)
A38: =IF(N38="","",IF(G38=1,E38,"Erreur")) | B38: =IF(N38="","",IF(G38=1,$M$5,"date")) | C38: =IF(N38="","",IF(G38=1,D38,"de")) | D38: 6 | E38: 06 | F38: G | G38: =IF(OR(VLOOKUP(E38,cod_cat,3,FALSE())=YEAR(N38),VLOOKUP(E38,cod_cat,4,FALSE())=YEAR(N38)),1,0) -> 0 | K38: =IF(N38="","",IF(G38=1,A38&" "&B38&" "&C38,"Naissance")) | O38: =IF(L38="","",F38) | P38: =IF(B38<>$M$5,"",VLOOKUP(A38,cod_cat,2,FALSE())) | Q38: =IF(B38<>$M$5,"",$M$4) | R38: =IF(B38<>$M$5,"",$R$2)
A39: =IF(N39="","",IF(G39=1,E39,"Erreur")) | B39: =IF(N39="","",IF(G39=1,$M$5,"date")) | C39: =IF(N39="","",IF(G39=1,D39,"de")) | D39: 7 | E39: 06 | F39: G | G39: =IF(OR(VLOOKUP(E39,cod_cat,3,FALSE())=YEAR(N39),VLOOKUP(E39,cod_cat,4,FALSE())=YEAR(N39)),1,0) -> 0 | K39: N | O39: =IF(L39="","",F39) | P39: =IF(B39<>$M$5,"",VLOOKUP(A39,cod_cat,2,FALSE())) | Q39: =IF(B39<>$M$5,"",$M$4) | R39: =IF(B39<>$M$5,"",$R$2)
A40: =IF(N40="","",IF(G40=1,E40,"Erreur")) | B40: =IF(N40="","",IF(G40=1,$M$5,"date")) | C40: =IF(N40="","",IF(G40=1,D40,"de")) | D40: 8 | E40: 06 | F40: G | G40: =IF(OR(VLOOKUP(E40,cod_cat,3,FALSE())=YEAR(N40),VLOOKUP(E40,cod_cat,4,FALSE())=YEAR(N40)),1,0) -> 0 | K40: N | O40: =IF(L40="","",F40) | P40: =IF(B40<>$M$5,"",VLOOKUP(A40,cod_cat,2,FALSE())) | Q40: =IF(B40<>$M$5,"",$M$4) | R40: =IF(B40<>$M$5,"",$R$2)
A41: =IF(N41="","",IF(G41=1,E41,"Erreur")) | B41: =IF(N41="","",IF(G41=1,$M$5,"date")) | C41: =IF(N41="","",IF(G41=1,D41,"de")) | D41: 1 | E41: 07 | F41: F | G41: =IF(OR(VLOOKUP(E41,cod_cat,3,FALSE())=YEAR(N41),VLOOKUP(E41,cod_cat,4,FALSE())=YEAR(N41)),1,0) -> 0 | I41: =IFERROR(VLOOKUP(E41,cod_cat,3,FALSE()),"-") -> 2015 | J41: BENJAMINES 1 - BF1 | K41: =IF(N41="","",IF(G41=1,A41&" "&B41&" "&C41,"Naissance")) | O41: =IF(L41="","",F41) | P41: =IF(B41<>$M$5,"",VLOOKUP(A41,cod_cat,2,FALSE())) | Q41: =IF(B41<>$M$5,"",$M$4) | R41: =IF(B41<>$M$5,"",$R$2)
...

Sheet Ets et CODE
C1: CODE | D1: ETABLISSEMENT | F1: CODE | K1: RAPPEL CATEGORIE ET CODE | N1: Date PF3 le jour du cross : | Q1: 2017
A2: Ordre Tri | B2: Degré | C2: - Merci - | D2: CHOISISSEZ VOTRE ETABLISSEMENT | E2: - Merci - | F2: - Merci - | G2: Commune | H2: Ile | I2: Fédération | K2: Début | L2: Fin | M2: Année de naissance | N2: Code fille | O2: Code Garçon | P2: Catégorie | Q2: Distance | T2: Code | U2: Cat | V2: Année
A3: 1 | B3: a | C3: CODE | D3: - | E3: CODE | F3: CODE | G3: d | H3: e | I3: f | K3: 42736 | L3: =DATE(YEAR(K3),12,31) -> 43100 | M3: =YEAR(K3) -> 2017 | N3: 03 | O3: 04 | P3: Poussins (es) 1 | Q3: 1000 m | T3: 03 | U3: PF1 | V3: =M3 -> 2017
A4: 2 | D4: * ECOLES ASSEP * | K4: =DATE(YEAR(K3)-1,12,31) -> 42735 | L4: =DATE(YEAR(K4),12,31) -> 42735 | M4: =YEAR(K4) -> 2016 | N4: 05 | O4: 06 | P4: Poussins (es) 2 | Q4: 1300 m | T4: 04 | U4: PG1 | V4: =M3 -> 2017
A5: 3 | K5: =DATE(YEAR(K4)-1,12,31) -> 42369 | L5: =DATE(YEAR(K5),12,31) -> 42369 | M5: =YEAR(K5) -> 2015 | N5: 07 | O5: 08 | P5: Benjamins (es) 1 | Q5: 1300 m | T5: 05 | U5: PF2 | V5: =M4 -> 2016
A6: 4 | B6: 1 | C6: 107 | D6: Ec. CHARLES VIENOT | E6: 107 | F6: PAPEETE | G6: TAHITI | H6: IDV | I6: ASSEP | K6: =DATE(YEAR(K5)-1,12,31) -> 42004 | L6: =DATE(YEAR(K6),12,31) -> 42004 | M6: =YEAR(K6) -> 2014 | N6: 09 | O6: 10 | P6: Benjamins (es) 2 | Q6: 1800 m | T6: 06 | U6: PG2 | V6: =M4 -> 2016
A7: 5 | B7: 1 | C7: 102 | D7: Ec. MISSION | E7: 102 | F7: PAPEETE | G7: TAHITI | H7: IDV | I7: ASSEP | K7: =DATE(YEAR(K6)-2,12,31) -> 41274 | L7: =DATE(YEAR(K7)+1,12,31) -> 41639 | M7: =YEAR(K7)&" - "&YEAR(L7) -> 2012 - 2013 | N7: 11 | O7: 12 | P7: Minimes F/G | Q7: F:2000m/ G:2500m | T7: 07 | U7: BF1 | V7: =M5 -> 2015
A8: 6 | B8: 1 | C8: 109 | D8: Ec. SACRE CŒUR DE TARAVAO | E8: 109 | F8: TARAVAO | G8: TAHITI | H8: IDV | I8: ASSEP | K8: =DATE(YEAR(K7)-2,12,31) -> 40543 | L8: =DATE(YEAR(K8)+1,12,31) -> 40908 | M8: =YEAR(K8)&" - "&YEAR(L8) -> 2010 - 2011 | N8: 13 | O8: 14 | P8: Cadets(tes) | Q8: F:2500m/ G:3000m | T8: 08 | U8: BG1 | V8: =M5 -> 2015
A9: 7 | B9: 1 | C9: 104 | D9: Ec. SAINT HILAIRE | E9: 104 | F9: FAAA | G9: TAHITI | H9: IDV | I9: ASSEP | K9: =DATE(YEAR(K8)-2,12,31) -> 39813 | L9: =DATE(YEAR(K9)+1,12,31) -> 40178 | M9: =YEAR(K9)&" - "&YEAR(L9) -> 2008 - 2009 | N9: 15 | O9: 16 | P9: Juniors F/G | Q9: F:3200m/ G:4200m | T9: 09 | U9: BF2 | V9: =M6 -> 2014
A10: 8 | B10: 1 | C10: 101 | D10: Ec. SAINT JEAN BAPTISTE | E10: 101 | F10: PAPEETE | G10: TAHITI | H10: IDV | I10: ASSEP | K10: =DATE(YEAR(K9)-1,12,31) -> 39447 | L10: et avant | M10: =YEAR(K10)&" - "&L10 -> 2007 - et avant | N10: 17 | O10: 18 | P10: Séniors F/G | Q10: F:3200m/ G:4200m | T10: 10 | U10: BG2 | V10: =M6 -> 2014
A11: 9 | B11: 1 | C11: 108 | D11: Ec. SAINT MICHEL | E11: 108 | F11: PIRAE | G11: TAHITI | H11: IDV | I11: ASSEP | T11: 11 | U11: MF | V11: =YEAR(K7) -> 2012 | W11: =YEAR(L7) -> 2013
A12: 10 | B12: 1 | C12: 105 | D12: Ec. SAINT PAUL | E12: 105 | F12: PAPEETE | G12: TAHITI | H12: IDV | I12: ASSEP | T12: 12 | U12: MG | V12: =YEAR(K7) -> 2012 | W12: =YEAR(L7) -> 2013
A13: 11 | B13: 1 | C13: 106 | D13: Ec. STE THERESE/ST PAUL | E13: 106 | F13: PAPEETE | G13: TAHITI | H13: IDV | I13: ASSEP | T13: 13 | U13: CF | V13: =YEAR(K8) -> 2010 | W13: =YEAR(L8) -> 2011
A14: 12 | B14: 1 | C14: 103 | D14: Ec. TAUNOA | E14: 103 | F14: PAPEETE | G14: TAHITI | H14: IDV | I14: ASSEP | T14: 14 | U14: CG | V14: =YEAR(K8) -> 2010 | W14: =YEAR(L8) -> 2011
A15: 13 | B15: 1 | C15: 111 | D15: Ec. TIARAMA | E15: 111 | F15: PAPEETE | G15: TAHITI | H15: IDV | I15: ASSEP | T15: 15 | U15: JF | V15: =YEAR(K9) -> 2008 | W15: =YEAR(L9) -> 2009
A16: 14 | B16: 1 | C16: 110 | D16: Ec. TONOI (AMJ RAIATEA) | E16: 110 | F16: UTUROA | G16: RAIATEA | H16: ISLV | I16: ASSEP | T16: 16 | U16: JG | V16: =YEAR(K9) -> 2008 | W16: =YEAR(L9) -> 2009
A17: 15 | T17: 17 | U17: SF | V17: =W17-1 -> #VALUE! | W17: =X17-1 -> #VALUE! | X17: =Y17-1 -> #VALUE! | Y17: =Z17-1 -> #VALUE! | Z17: =AA17-1 -> #VALUE! | AA17: =AB17-1 -> #VALUE! | AB17: =AC17-1 -> #VALUE! | AC17: =AD17-1 -> #VALUE! | AD17: =YEAR(L10) -> #VALUE!
A18: 16 | D18: * ECOLES USEP * | T18: 18 | U18: SG | V18: =W18-1 -> #VALUE! | W18: =X18-1 -> #VALUE! | X18: =Y18-1 -> #VALUE! | Y18: =Z18-1 -> #VALUE! | Z18: =AA18-1 -> #VALUE! | AA18: =AB18-1 -> #VALUE! | AB18: =AC18-1 -> #VALUE! | AC18: =AD18-1 -> #VALUE! | AD18: =YEAR(L10) -> #VALUE!
A19: 17
A20: 18 | B20: 1 | C20: 293 | D20: - | E20: 293 | F20: - | G20: TAHAA | H20: ISLV | I20: USEP
A21: 19 | B21: 1 | C21: 351 | D21: C.S.P. ATUONA | E21: 351 | F21: HIVA OA | G21: HIVA OA | H21: MARQUISES | I21: USEP
A22: 20 | B22: 1 | C22: 352 | D22: CSP HAKAHAU | E22: 352 | F22: UA POU | G22: UA POU | H22: MARQUISES | I22: USEP
A23: 21 | B23: 1 | C23: 327 | D23: CSP MAKEMO | E23: 327 | F23: MAKEMO | G23: MAKEMO | H23: TUAMOTU | I23: USEP
A24: 22 | B24: 1 | C24: 215 | D24: Ec. 2 + 2 = 4 | E24: 215 | F24: PUNAAUIA | G24: TAHITI | H24: IDV | I24: USEP
A25: 23 | B25: 1 | C25: 251 | D25: Ec. AFAREAITU | E25: 251 | F25: AFAREAITU | G25: MOOREA | H25: IDV | I25: USEP
A26: 24 | B26: 1 | C26: 377 | D26: Ec. AHE | E26: 377 | F26: AHE | G26: AHE | H26: TUAMOTU | I26: USEP
A27: 25 | B27: 1 | C27: 231 | D27: Ec. AHITITERA | E27: 231 | F27: FAAONE | G27: TAHITI | H27: IDV | I27: USEP
A28: 26 | B28: 1 | C28: 228 | D28: Ec. AHOTOTEINA | E28: 228 | F28: TEAHUPOO | G28: TAHITI | H28: IDV | I28: USEP
A29: 27 | B29: 1 | C29: 317 | D29: Ec. AHUREI | E29: 317 | F29: AHUREI | G29: RAPA | H29: AUSTRALEs | I29: USEP
A30: 28 | B30: 1 | C30: 244 | D30: Ec. AHUTORU | E30: 244 | F30: ARUE | G30: TAHITI | H30: IDV | I30: USEP
A31: 29 | B31: 1 | C31: 332 | D31: Ec. ANAA | E31: 332 | F31: ANAA | G31: ANAA | H31: TUAMOTU | I31: USEP
... A36: 34 | B36: 1 | C36: 272 | D36: Ec. APOOITI | E36: 272 | F36: UTUROA | G36: RAIATEA | H36: ISLV | I36: USEP
A37: 35 | B37: 1 | C37: 338 | D37: Ec. ARATIKA | E37: 338 | H37: TUAMOTU | I37: USEP
A38: 36 | B38: 1 | C38: 245 | D38: Ec. ARUE 2 | E38: 245 | F38: ARUE | G38: TAHITI | H38: IDV | I38: USEP
A39: 37 | B39: 1 | C39: 329 | D39: Ec. ARUTUA | E39: 329 | F39: ARUTUA | G39: ARUTUA | H39: TUAMOTU | I39: USEP
A40: 38 | B40: 1 | C40: 321 | D40: Ec. AVATORU | E40: 321 | F40: RANGIROA-TUAMOTU | G40: RANGIROA | H40: TUAMOTU | I40: USEP
A41: 39 | B41: 1 | C41: 246 | D41: Ec. ERIMA | E41: 246 | F41: ARUE | G41: TAHITI | H41: IDV | I41: USEP
A42: 40 | B42: 1 | C42: 292 | D42: Ec. FAAAHA | E42: 292 | F42: FAAAHA | G42: TAHAA | H42: ISLV | I42: USEP
A43: 41 | B43: 1 | C43: 302 | D43: Ec. FAANUI | E43: 302 | F43: FAANUI | G43: BORA BORA | H43: ISLV | I43: USEP
A44: 42 | B44: 1 | C44: 278 | D44: Ec. FAAROA | E44: 278 | F44: TAPUTAPUATEA | G44: RAIATEA | H44: ISLV | I44: USEP
...
